FILENAME: O4511206.NWS.1076925.tif
QUADRANGLE_NAME: DELMOE LAKE
QUADRANT: NW
WEST_LONGITUDE: -112 22 30.00000
EAST_LONGITUDE: -112 18 45.00000
NORTH_LATITUDE: 46 0 0.00000
SOUTH_LATITUDE: 45 56 15.00000
PRODUCTION_DATE: 2000 5 29
RASTER_ORDER: LEFT_RIGHT/TOP_BOTTOM
BAND_ORGANIZATION: SINGLE FILE
BAND_CONTENT: BLACK&WHITE
BAND_CONTENT: UNDEFINED
BAND_CONTENT: UNDEFINED
BITS_PER_PIXEL: 8
SAMPLES_AND_LINES: 5628 7636
HORIZONTAL_DATUM: NAD83
HORIZONTAL_COORDINATE_SYSTEM: UTM
COORDINATE_ZONE: 12
HORIZONTAL_UNITS: METERS
HORIZONTAL_RESOLUTION: 1.00000
SECONDARY_HORIZONTAL_DATUM: NAD27
XY_ORIGIN: 393044.00000 5095267.00000
SECONDARY_XY_ORIGIN: 393106.44800 5095056.07100
NATION: US
NATION: "SCIENCE
STATE: MT
NW_QUAD_CORNER_XY: 393530.91000 5094966.56200
NE_QUAD_CORNER_XY: 398370.38500 5094884.90300
SE_QUAD_CORNERY_XY: 398255.99900 5087940.82100
SW_QUAD_CORNER_XY: 393411.07500 5088022.48700
SECONDARY_NW_QUAD_XY: 393527.69800 5094748.61900
SECONDARY_NE_QUAD_XY: 398367.31900 5094666.95600
SECONDARY_SE_QUAD_XY: 398252.93400 5087722.91700
SECONDARY_SW_QUAD_XY: 393407.86400 5087804.58500
RMSE_XY: 1.50000
IMAGE_SOURCE: BLACK AND WHITE FILM
SOURCE_IMAGE_ID: NAPP 9484 018
SOURCE_IMAGE_DATE: 1995 08 14
SOURCE_IMAGE_ID: NAPP 9484 019
SOURCE_IMAGE_DATE: 1995 08 14
SOURCE_IMAGE_ID: NAPP 9484 017
SOURCE_IMAGE_DATE: 1995 08 14
SOURCE_IMAGE_ID: NAPP 9484 120
SOURCE_IMAGE_DATE: 1995 08 14
SOURCE_IMAGE_ID: NAPP 9484 121
SOURCE_IMAGE_DATE: 1995 08 14
SOURCE_DEM_DATE: 1960 00 00
AGENCY: WESTERN MAPPING CENTER (WMC)
PRODUCER: UNDEFINED
PRODUCTION_SYSTEM: GIS/MAGIC
COMPRESSION: UNDEFINED
STANDARD_VERSION: 1996 12
METADATA_DATE: 2000 05 29
DATA_FILE_SIZE: 42981036
BYTE_COUNT: 5628
