FILENAME: O4511206.NES.1076924.tif
QUADRANGLE_NAME: DELMOE LAKE
QUADRANT: NE
WEST_LONGITUDE: -112 18 45.00000
EAST_LONGITUDE: -112 15 0.00000
NORTH_LATITUDE: 46 0 0.00000
SOUTH_LATITUDE: 45 56 15.00000
PRODUCTION_DATE: 2000 5 29
RASTER_ORDER: LEFT_RIGHT/TOP_BOTTOM
BAND_ORGANIZATION: SINGLE FILE
BAND_CONTENT: BLACK&WHITE
BAND_CONTENT: UNDEFINED
BAND_CONTENT: UNDEFINED
BITS_PER_PIXEL: 8
SAMPLES_AND_LINES: 5622 7632
HORIZONTAL_DATUM: NAD83
HORIZONTAL_COORDINATE_SYSTEM: UTM
COORDINATE_ZONE: 12
HORIZONTAL_UNITS: METERS
HORIZONTAL_RESOLUTION: 1.00000
SECONDARY_HORIZONTAL_DATUM: NAD27
XY_ORIGIN: 397889.00000 5095185.00000
SECONDARY_XY_ORIGIN: 397951.27200 5094974.11900
NATION: US
NATION: "SCIENCE
STATE: MT
NW_QUAD_CORNER_XY: 398370.38500 5094884.90300
NE_QUAD_CORNER_XY: 403209.86400 5094807.04200
SE_QUAD_CORNERY_XY: 403100.92700 5087862.95500
SW_QUAD_CORNER_XY: 398255.99900 5087940.82100
SECONDARY_NW_QUAD_XY: 398367.31900 5094666.95600
SECONDARY_NE_QUAD_XY: 403206.94400 5094589.09400
SECONDARY_SE_QUAD_XY: 403098.00800 5087645.04900
SECONDARY_SW_QUAD_XY: 398252.93400 5087722.91700
RMSE_XY: 3.40000
IMAGE_SOURCE: BLACK AND WHITE FILM
SOURCE_IMAGE_ID: NAPP 9484 121
SOURCE_IMAGE_DATE: 1995 08 14
SOURCE_IMAGE_ID: NAPP 9484 019
SOURCE_IMAGE_DATE: 1995 08 14
SOURCE_IMAGE_ID: NAPP 9484 120
SOURCE_IMAGE_DATE: 1995 08 14
SOURCE_IMAGE_ID: NAPP 9484 122
SOURCE_IMAGE_DATE: 1995 08 14
SOURCE_IMAGE_ID: NAPP 9484 147
SOURCE_IMAGE_DATE: 1995 08 14
SOURCE_DEM_DATE: 1960 00 00
AGENCY: WESTERN MAPPING CENTER (WMC)
PRODUCER: UNDEFINED
PRODUCTION_SYSTEM: GIS/MAGIC
COMPRESSION: UNDEFINED
STANDARD_VERSION: 1996 12
METADATA_DATE: 2000 05 29
DATA_FILE_SIZE: 42912726
BYTE_COUNT: 5622
