FILENAME: O4511207.SES.1076903.tif
QUADRANGLE_NAME: DRY MOUNTAIN
QUADRANT: SE
WEST_LONGITUDE: -112 11 15.00000
EAST_LONGITUDE: -112 7 30.00000
NORTH_LATITUDE: 45 56 15.00000
SOUTH_LATITUDE: 45 52 30.00000
PRODUCTION_DATE: 2000 5 9
RASTER_ORDER: LEFT_RIGHT/TOP_BOTTOM
BAND_ORGANIZATION: SINGLE FILE
BAND_CONTENT: BLACK&WHITE
BAND_CONTENT: UNDEFINED
BAND_CONTENT: UNDEFINED
BITS_PER_PIXEL: 8
SAMPLES_AND_LINES: 5616 7624
HORIZONTAL_DATUM: NAD83
HORIZONTAL_COORDINATE_SYSTEM: UTM
COORDINATE_ZONE: 12
HORIZONTAL_UNITS: METERS
HORIZONTAL_RESOLUTION: 1.00000
SECONDARY_HORIZONTAL_DATUM: NAD27
XY_ORIGIN: 407476.00000 5088089.00000
SECONDARY_XY_ORIGIN: 407537.94200 5087878.27700
NATION: US
NATION: "SCIENCE
STATE: MT
NW_QUAD_CORNER_XY: 407945.85800 5087788.88900
NE_QUAD_CORNER_XY: 412790.79300 5087718.62200
SE_QUAD_CORNERY_XY: 412692.85700 5080774.59800
SW_QUAD_CORNER_XY: 407842.48000 5080844.86900
SECONDARY_NW_QUAD_XY: 407943.08500 5087570.98000
SECONDARY_NE_QUAD_XY: 412788.16600 5087500.71100
SECONDARY_SE_QUAD_XY: 412690.23000 5080556.73100
SECONDARY_SW_QUAD_XY: 407839.70700 5080627.00400
RMSE_XY: 2.30000
IMAGE_SOURCE: BLACK AND WHITE FILM
SOURCE_IMAGE_ID: NAPP 9483 035
SOURCE_IMAGE_DATE: 1995 08 14
SOURCE_IMAGE_ID: NAPP 9484 151
SOURCE_IMAGE_DATE: 1995 08 14
SOURCE_IMAGE_ID: NAPP 8388 103
SOURCE_IMAGE_DATE: 1995 08 09
SOURCE_IMAGE_ID: NAPP 8388 101
SOURCE_IMAGE_DATE: 1995 08 09
SOURCE_IMAGE_ID: NAPP 9483 036
SOURCE_IMAGE_DATE: 1995 08 14
SOURCE_DEM_DATE: 1960 00 00
AGENCY: WESTERN MAPPING CENTER (WMC)
PRODUCER: UNDEFINED
PRODUCTION_SYSTEM: GIS/MAGIC
COMPRESSION: UNDEFINED
STANDARD_VERSION: 1996 12
METADATA_DATE: 2000 05 31
DATA_FILE_SIZE: 42822000
BYTE_COUNT: 5616
