FILENAME: O4511207.NWS.1076901.tif
QUADRANGLE_NAME: DRY MOUNTAIN
QUADRANT: NW
WEST_LONGITUDE: -112 15 0.00000
EAST_LONGITUDE: -112 11 15.00000
NORTH_LATITUDE: 46 0 0.00000
SOUTH_LATITUDE: 45 56 15.00000
PRODUCTION_DATE: 2000 5 9
RASTER_ORDER: LEFT_RIGHT/TOP_BOTTOM
BAND_ORGANIZATION: SINGLE FILE
BAND_CONTENT: BLACK&WHITE
BAND_CONTENT: UNDEFINED
BAND_CONTENT: UNDEFINED
BITS_PER_PIXEL: 8
SAMPLES_AND_LINES: 5617 7629
HORIZONTAL_DATUM: NAD83
HORIZONTAL_COORDINATE_SYSTEM: UTM
COORDINATE_ZONE: 12
HORIZONTAL_UNITS: METERS
HORIZONTAL_RESOLUTION: 1.00000
SECONDARY_HORIZONTAL_DATUM: NAD27
XY_ORIGIN: 402734.00000 5095108.00000
SECONDARY_XY_ORIGIN: 402796.08600 5094897.16800
NATION: US
NATION: "SCIENCE
STATE: MT
NW_QUAD_CORNER_XY: 403209.86400 5094807.04200
NE_QUAD_CORNER_XY: 408049.34700 5094732.98100
SE_QUAD_CORNERY_XY: 407945.85800 5087788.88900
SW_QUAD_CORNER_XY: 403100.92700 5087862.95500
SECONDARY_NW_QUAD_XY: 403206.94400 5094589.09400
SECONDARY_NE_QUAD_XY: 408046.57300 5094515.03000
SECONDARY_SE_QUAD_XY: 407943.08500 5087570.98000
SECONDARY_SW_QUAD_XY: 403098.00800 5087645.04900
RMSE_XY: 1.60000
IMAGE_SOURCE: BLACK AND WHITE FILM
SOURCE_IMAGE_ID: NAPP 9484 148
SOURCE_IMAGE_DATE: 1995 08 14
SOURCE_IMAGE_ID: NAPP 9484 122
SOURCE_IMAGE_DATE: 1995 08 14
SOURCE_IMAGE_ID: NAPP 9484 149
SOURCE_IMAGE_DATE: 1995 08 14
SOURCE_IMAGE_ID: NAPP 9484 147
SOURCE_IMAGE_DATE: 1995 08 14
SOURCE_IMAGE_ID: NAPP 8388 099
SOURCE_IMAGE_DATE: 1995 08 09
SOURCE_DEM_DATE: 1960 00 00
AGENCY: WESTERN MAPPING CENTER (WMC)
PRODUCER: UNDEFINED
PRODUCTION_SYSTEM: GIS/MAGIC
COMPRESSION: UNDEFINED
STANDARD_VERSION: 1996 12
METADATA_DATE: 2000 05 31
DATA_FILE_SIZE: 42857710
BYTE_COUNT: 5617
