FILENAME: O4511208.NWS.1076949.tif
QUADRANGLE_NAME: BLACK BUTTE
QUADRANT: NW
WEST_LONGITUDE: -112 7 30.00000
EAST_LONGITUDE: -112 3 45.00000
NORTH_LATITUDE: 46 0 0.00000
SOUTH_LATITUDE: 45 56 15.00000
PRODUCTION_DATE: 2000 4 20
RASTER_ORDER: LEFT_RIGHT/TOP_BOTTOM
BAND_ORGANIZATION: SINGLE FILE
BAND_CONTENT: BLACK&WHITE
BAND_CONTENT: UNDEFINED
BAND_CONTENT: UNDEFINED
BITS_PER_PIXEL: 8
SAMPLES_AND_LINES: 5605 7621
HORIZONTAL_DATUM: NAD83
HORIZONTAL_COORDINATE_SYSTEM: UTM
COORDINATE_ZONE: 12
HORIZONTAL_UNITS: METERS
HORIZONTAL_RESOLUTION: 1.00000
SECONDARY_HORIZONTAL_DATUM: NAD27
XY_ORIGIN: 412425.00000 5094963.00000
SECONDARY_XY_ORIGIN: 412486.84900 5094752.27900
NATION: US
NATION: "SCIENCE
STATE: MT
NW_QUAD_CORNER_XY: 412888.83400 5094662.71900
NE_QUAD_CORNER_XY: 417728.32400 5094596.25500
SE_QUAD_CORNERY_XY: 417635.73100 5087652.15300
SW_QUAD_CORNER_XY: 412790.79300 5087718.62200
SECONDARY_NW_QUAD_XY: 412886.20600 5094444.76600
SECONDARY_NE_QUAD_XY: 417725.84200 5094378.30100
SECONDARY_SE_QUAD_XY: 417633.25000 5087434.24100
SECONDARY_SW_QUAD_XY: 412788.16600 5087500.71100
RMSE_XY: 2.20000
IMAGE_SOURCE: BLACK AND WHITE FILM
SOURCE_IMAGE_ID: NAPP 9483 033
SOURCE_IMAGE_DATE: 1995 08 14
SOURCE_IMAGE_ID: NAPP 9483 034
SOURCE_IMAGE_DATE: 1995 08 14
SOURCE_IMAGE_ID: NAPP 9483 032
SOURCE_IMAGE_DATE: 1995 08 14
SOURCE_IMAGE_ID: NAPP 9491 118
SOURCE_IMAGE_DATE: 1995 09 01
SOURCE_DEM_DATE: 1988 00 00
AGENCY: WESTERN MAPPING CENTER (WMC)
PRODUCER: UNDEFINED
PRODUCTION_SYSTEM: GIS/MAGIC
COMPRESSION: UNDEFINED
STANDARD_VERSION: 1996 12
METADATA_DATE: 2000 05 31
DATA_FILE_SIZE: 42721310
BYTE_COUNT: 5605
