FILENAME: O4511210.NES.1076788.tif
QUADRANGLE_NAME: DEWEY
QUADRANT: NE
WEST_LONGITUDE: -112 48 45.00000
EAST_LONGITUDE: -112 45 0.00000
NORTH_LATITUDE: 45 52 30.00000
SOUTH_LATITUDE: 45 48 45.00000
PRODUCTION_DATE: 2000 3 17
RASTER_ORDER: LEFT_RIGHT/TOP_BOTTOM
BAND_ORGANIZATION: SINGLE FILE
BAND_CONTENT: BLACK&WHITE
BAND_CONTENT: UNDEFINED
BAND_CONTENT: UNDEFINED
BITS_PER_PIXEL: 8
SAMPLES_AND_LINES: 5679 7662
HORIZONTAL_DATUM: NAD83
HORIZONTAL_COORDINATE_SYSTEM: UTM
COORDINATE_ZONE: 12
HORIZONTAL_UNITS: METERS
HORIZONTAL_RESOLUTION: 1.00000
SECONDARY_HORIZONTAL_DATUM: NAD27
XY_ORIGIN: 358812.00000 5082057.00000
SECONDARY_XY_ORIGIN: 358875.21800 5081845.90200
NATION: US
NATION: "SCIENCE
STATE: MT
NW_QUAD_CORNER_XY: 359338.91200 5081756.59300
NE_QUAD_CORNER_XY: 364189.24900 5081648.31700
SE_QUAD_CORNERY_XY: 364037.04000 5074704.42100
SW_QUAD_CORNER_XY: 359181.26300 5074812.70300
SECONDARY_NW_QUAD_XY: 359334.68000 5081538.75600
SECONDARY_NE_QUAD_XY: 364185.16300 5081430.47700
SECONDARY_SE_QUAD_XY: 364032.95500 5074486.62400
SECONDARY_SW_QUAD_XY: 359177.03200 5074594.91000
RMSE_XY: 2.60000
IMAGE_SOURCE: BLACK AND WHITE FILM
SOURCE_IMAGE_ID: NAPP 9483 137
SOURCE_IMAGE_DATE: 1995 08 14
SOURCE_IMAGE_ID: NAPP 9483 136
SOURCE_IMAGE_DATE: 1995 08 14
SOURCE_DEM_DATE: 2000 01 01
AGENCY: WESTERN MAPPING CENTER (WMC)
PRODUCER: UNDEFINED
PRODUCTION_SYSTEM: GIS/MAGIC
COMPRESSION: UNDEFINED
STANDARD_VERSION: 1996 12
METADATA_DATE: 2000 05 29
DATA_FILE_SIZE: 43518177
BYTE_COUNT: 5679
