FILENAME: O4511211.NWS.1076801.tif
QUADRANGLE_NAME: TUCKER CREEK
QUADRANT: NW
WEST_LONGITUDE: -112 45 0.00000
EAST_LONGITUDE: -112 41 15.00000
NORTH_LATITUDE: 45 52 30.00000
SOUTH_LATITUDE: 45 48 45.00000
PRODUCTION_DATE: 2000 3 17
RASTER_ORDER: LEFT_RIGHT/TOP_BOTTOM
BAND_ORGANIZATION: SINGLE FILE
BAND_CONTENT: BLACK&WHITE
BAND_CONTENT: UNDEFINED
BAND_CONTENT: UNDEFINED
BITS_PER_PIXEL: 8
SAMPLES_AND_LINES: 5673 7658
HORIZONTAL_DATUM: NAD83
HORIZONTAL_COORDINATE_SYSTEM: UTM
COORDINATE_ZONE: 12
HORIZONTAL_UNITS: METERS
HORIZONTAL_RESOLUTION: 1.00000
SECONDARY_HORIZONTAL_DATUM: NAD27
XY_ORIGIN: 363668.00000 5081949.00000
SECONDARY_XY_ORIGIN: 363731.17800 5081737.94700
NATION: US
NATION: "SCIENCE
STATE: MT
NW_QUAD_CORNER_XY: 364189.24900 5081648.31700
NE_QUAD_CORNER_XY: 369039.59200 5081543.84300
SE_QUAD_CORNERY_XY: 368892.82100 5074599.94000
SW_QUAD_CORNER_XY: 364037.04000 5074704.42100
SECONDARY_NW_QUAD_XY: 364185.16300 5081430.47700
SECONDARY_NE_QUAD_XY: 369035.65100 5081325.99900
SECONDARY_SE_QUAD_XY: 368888.88200 5074382.14000
SECONDARY_SW_QUAD_XY: 364032.95500 5074486.62400
RMSE_XY: 1.10000
IMAGE_SOURCE: BLACK AND WHITE FILM
SOURCE_IMAGE_ID: NAPP 9483 046
SOURCE_IMAGE_DATE: 1995 08 14
SOURCE_DEM_DATE: 1956 00 00
AGENCY: WESTERN MAPPING CENTER (WMC)
PRODUCER: UNDEFINED
PRODUCTION_SYSTEM: GIS/MAGIC
COMPRESSION: UNDEFINED
STANDARD_VERSION: 1996 12
METADATA_DATE: 2000 05 29
DATA_FILE_SIZE: 43449507
BYTE_COUNT: 5673
