FILENAME: O4511213.NWS.788240.tif
QUADRANGLE_NAME: PIPESTONE PASS
QUADRANT: NW
WEST_LONGITUDE: -112 30 0.00000
EAST_LONGITUDE: -112 26 15.00000
NORTH_LATITUDE: 45 52 30.00000
SOUTH_LATITUDE: 45 48 45.00000
PRODUCTION_DATE: 1997 11 26
RASTER_ORDER: LEFT_RIGHT/TOP_BOTTOM
BAND_ORGANIZATION: SINGLE FILE
BAND_CONTENT: BLACK&WHITE
BAND_CONTENT: UNDEFINED
BAND_CONTENT: UNDEFINED
BITS_PER_PIXEL: 8
SAMPLES_AND_LINES: 5647 7640
HORIZONTAL_DATUM: NAD83
HORIZONTAL_COORDINATE_SYSTEM: UTM
COORDINATE_ZONE: 12
HORIZONTAL_UNITS: METERS
HORIZONTAL_RESOLUTION: 1.00000
SECONDARY_HORIZONTAL_DATUM: NAD27
XY_ORIGIN: 383094.44200 5081552.72600
SECONDARY_XY_ORIGIN: 383157.21000 5081341.79500
NATION: US
STATE: MT
NW_QUAD_CORNER_XY: 383590.64500 5081253.22600
NE_QUAD_CORNER_XY: 388441.00500 5081163.95500
SE_QUAD_CORNERY_XY: 388315.98700 5074220.02800
SW_QUAD_CORNER_XY: 383460.19000 5074309.30500
SECONDARY_NW_QUAD_XY: 383587.14300 5081035.37300
SECONDARY_NE_QUAD_XY: 388437.64800 5080946.09900
SECONDARY_SE_QUAD_XY: 388312.63200 5074002.21700
SECONDARY_SW_QUAD_XY: 383456.68900 5074091.49600
RMSE_XY: 2.50000
IMAGE_SOURCE: BLACK AND WHITE FILM
SOURCE_IMAGE_ID: NAPP 9485 219
SOURCE_IMAGE_DATE: 1995 8 20
SOURCE_DEM_DATE: 1997 11 26
AGENCY: WESTERN MAPPING CENTER (WMC)
PRODUCER: NIES MAPPING GROUP
PRODUCTION_SYSTEM: INTERGRAPH-ISIR
COMPRESSION: UNDEFINED
STANDARD_VERSION: 1996 12
METADATA_DATE: 1998 2 9
DATA_FILE_SIZE: 43148727
BYTE_COUNT: 5647
