FILENAME: O4511214.NWS.788245.tif
QUADRANGLE_NAME: GRACE
QUADRANT: NW
WEST_LONGITUDE: -112 22 30.00000
EAST_LONGITUDE: -112 18 45.00000
NORTH_LATITUDE: 45 52 30.00000
SOUTH_LATITUDE: 45 48 45.00000
PRODUCTION_DATE: 1997 11 26
RASTER_ORDER: LEFT_RIGHT/TOP_BOTTOM
BAND_ORGANIZATION: SINGLE FILE
BAND_CONTENT: BLACK&WHITE
BAND_CONTENT: UNDEFINED
BAND_CONTENT: UNDEFINED
BITS_PER_PIXEL: 8
SAMPLES_AND_LINES: 5636 7633
HORIZONTAL_DATUM: NAD83
HORIZONTAL_COORDINATE_SYSTEM: UTM
COORDINATE_ZONE: 12
HORIZONTAL_UNITS: METERS
HORIZONTAL_RESOLUTION: 1.00000
SECONDARY_HORIZONTAL_DATUM: NAD27
XY_ORIGIN: 392806.72200 5081377.98400
SECONDARY_XY_ORIGIN: 392869.12100 5081167.15800
NATION: US
STATE: MT
NW_QUAD_CORNER_XY: 393291.36800 5081078.48400
NE_QUAD_CORNER_XY: 398141.73500 5080996.81300
SE_QUAD_CORNERY_XY: 398027.59300 5074052.87600
SW_QUAD_CORNER_XY: 393171.78800 5074134.55200
SECONDARY_NW_QUAD_XY: 393288.15700 5080860.62600
SECONDARY_NE_QUAD_XY: 398138.67000 5080778.95200
SECONDARY_SE_QUAD_XY: 398024.52900 5073835.05900
SECONDARY_SW_QUAD_XY: 393168.57900 5073916.73800
RMSE_XY: 1.90000
IMAGE_SOURCE: BLACK AND WHITE FILM
SOURCE_IMAGE_ID: NAPP 9484 22
SOURCE_IMAGE_DATE: 1995 8 14
SOURCE_DEM_DATE: 1997 11 26
AGENCY: WESTERN MAPPING CENTER (WMC)
PRODUCER: NIES MAPPING GROUP
PRODUCTION_SYSTEM: INTERGRAPH-ISIR
COMPRESSION: UNDEFINED
STANDARD_VERSION: 1996 12
METADATA_DATE: 1998 2 9
DATA_FILE_SIZE: 43025224
BYTE_COUNT: 5636
