FILENAME: O4511214.NES.788244.tif
QUADRANGLE_NAME: GRACE
QUADRANT: NE
WEST_LONGITUDE: -112 18 45.00000
EAST_LONGITUDE: -112 15 0.00000
NORTH_LATITUDE: 45 52 30.00000
SOUTH_LATITUDE: 45 48 45.00000
PRODUCTION_DATE: 1997 11 26
RASTER_ORDER: LEFT_RIGHT/TOP_BOTTOM
BAND_ORGANIZATION: SINGLE FILE
BAND_CONTENT: BLACK&WHITE
BAND_CONTENT: UNDEFINED
BAND_CONTENT: UNDEFINED
BITS_PER_PIXEL: 8
SAMPLES_AND_LINES: 5630 7629
HORIZONTAL_DATUM: NAD83
HORIZONTAL_COORDINATE_SYSTEM: UTM
COORDINATE_ZONE: 12
HORIZONTAL_UNITS: METERS
HORIZONTAL_RESOLUTION: 1.00000
SECONDARY_HORIZONTAL_DATUM: NAD27
XY_ORIGIN: 397662.86700 5081296.31300
SECONDARY_XY_ORIGIN: 397725.07800 5081085.54000
NATION: US
STATE: MT
NW_QUAD_CORNER_XY: 398141.73500 5080996.81300
NE_QUAD_CORNER_XY: 402992.10600 5080918.94200
SE_QUAD_CORNERY_XY: 402883.40000 5073975.00000
SW_QUAD_CORNER_XY: 398027.59300 5074052.87600
SECONDARY_NW_QUAD_XY: 398138.67000 5080778.95200
SECONDARY_NE_QUAD_XY: 402989.18700 5080701.07900
SECONDARY_SE_QUAD_XY: 402880.48300 5073757.18100
SECONDARY_SW_QUAD_XY: 398024.52900 5073835.05900
RMSE_XY: 1.00000
IMAGE_SOURCE: BLACK AND WHITE FILM
SOURCE_IMAGE_ID: NAPP 9484 117
SOURCE_IMAGE_DATE: 1995 8 14
SOURCE_DEM_DATE: 1997 11 26
AGENCY: WESTERN MAPPING CENTER (WMC)
PRODUCER: NIES MAPPING GROUP
PRODUCTION_SYSTEM: INTERGRAPH-ISIR
COMPRESSION: UNDEFINED
STANDARD_VERSION: 1996 12
METADATA_DATE: 1998 2 9
DATA_FILE_SIZE: 42956900
BYTE_COUNT: 5630
