FILENAME: O4511216.NWS.1076953.tif
QUADRANGLE_NAME: WHITEHALL
QUADRANT: NW
WEST_LONGITUDE: -112 7 30.00000
EAST_LONGITUDE: -112 3 45.00000
NORTH_LATITUDE: 45 52 30.00000
SOUTH_LATITUDE: 45 48 45.00000
PRODUCTION_DATE: 2000 4 7
RASTER_ORDER: LEFT_RIGHT/TOP_BOTTOM
BAND_ORGANIZATION: SINGLE FILE
BAND_CONTENT: BLACK&WHITE
BAND_CONTENT: UNDEFINED
BAND_CONTENT: UNDEFINED
BITS_PER_PIXEL: 8
SAMPLES_AND_LINES: 5616 7621
HORIZONTAL_DATUM: NAD83
HORIZONTAL_COORDINATE_SYSTEM: UTM
COORDINATE_ZONE: 12
HORIZONTAL_UNITS: METERS
HORIZONTAL_RESOLUTION: 1.00000
SECONDARY_HORIZONTAL_DATUM: NAD27
XY_ORIGIN: 412229.00000 5081075.00000
SECONDARY_XY_ORIGIN: 412290.82200 5080864.38200
NATION: US
NATION: "SCIENCE
STATE: MT
NW_QUAD_CORNER_XY: 412692.85700 5080774.59800
NE_QUAD_CORNER_XY: 417543.23700 5080708.12500
SE_QUAD_CORNERY_XY: 417450.84200 5073764.17100
SW_QUAD_CORNER_XY: 412595.02500 5073830.64700
SECONDARY_NW_QUAD_XY: 412690.23000 5080556.73100
SECONDARY_NE_QUAD_XY: 417540.75600 5080490.25600
SECONDARY_SE_QUAD_XY: 417448.36100 5073546.34600
SECONDARY_SW_QUAD_XY: 412592.39900 5073612.82400
RMSE_XY: 1.70000
IMAGE_SOURCE: BLACK AND WHITE FILM
SOURCE_IMAGE_ID: NAPP 9483 037
SOURCE_IMAGE_DATE: 1995 08 14
SOURCE_IMAGE_ID: NAPP 9483 038
SOURCE_IMAGE_DATE: 1995 08 14
SOURCE_IMAGE_ID: NAPP 9483 036
SOURCE_IMAGE_DATE: 1995 08 14
SOURCE_DEM_DATE: 1978 00 00
AGENCY: WESTERN MAPPING CENTER (WMC)
PRODUCER: UNDEFINED
PRODUCTION_SYSTEM: GIS/MAGIC
COMPRESSION: UNDEFINED
STANDARD_VERSION: 1996 12
METADATA_DATE: 2000 05 31
DATA_FILE_SIZE: 42805152
BYTE_COUNT: 5616
