FILENAME: O4511217.NWS.1076761.tif
QUADRANGLE_NAME: VIPOND PARK
QUADRANT: NW
WEST_LONGITUDE: -113 0 0.00000
EAST_LONGITUDE: -112 56 15.00000
NORTH_LATITUDE: 45 45 0.00000
SOUTH_LATITUDE: 45 41 15.00000
PRODUCTION_DATE: 2000 4 4
RASTER_ORDER: LEFT_RIGHT/TOP_BOTTOM
BAND_ORGANIZATION: SINGLE FILE
BAND_CONTENT: BLACK&WHITE
BAND_CONTENT: UNDEFINED
BAND_CONTENT: UNDEFINED
BITS_PER_PIXEL: 8
SAMPLES_AND_LINES: 5706 7673
HORIZONTAL_DATUM: NAD83
HORIZONTAL_COORDINATE_SYSTEM: UTM
COORDINATE_ZONE: 12
HORIZONTAL_UNITS: METERS
HORIZONTAL_RESOLUTION: 1.00000
SECONDARY_HORIZONTAL_DATUM: NAD27
XY_ORIGIN: 343897.00000 5068517.00000
SECONDARY_XY_ORIGIN: 343960.31000 5068305.80900
NATION: US
NATION: "SCIENCE
STATE: MT
NW_QUAD_CORNER_XY: 344440.17700 5068216.56200
NE_QUAD_CORNER_XY: 349301.37400 5068096.86600
SE_QUAD_CORNERY_XY: 349133.20600 5061153.12500
SW_QUAD_CORNER_XY: 344266.58000 5061272.82700
SECONDARY_NW_QUAD_XY: 344435.50900 5067998.82300
SECONDARY_NE_QUAD_XY: 349296.85300 5067879.12400
SECONDARY_SE_QUAD_XY: 349128.68500 5060935.42900
SECONDARY_SW_QUAD_XY: 344261.91300 5061055.13500
RMSE_XY: 2.90000
IMAGE_SOURCE: BLACK AND WHITE FILM
SOURCE_IMAGE_ID: NAPP 9485 121
SOURCE_IMAGE_DATE: 1995 08 20
SOURCE_IMAGE_ID: NAPP 8402 018
SOURCE_IMAGE_DATE: 1995 09 02
SOURCE_IMAGE_ID: NAPP 9485 120
SOURCE_IMAGE_DATE: 1995 08 20
SOURCE_DEM_DATE: 2000 01 01
AGENCY: WESTERN MAPPING CENTER (WMC)
PRODUCER: UNDEFINED
PRODUCTION_SYSTEM: GIS/MAGIC
COMPRESSION: UNDEFINED
STANDARD_VERSION: 1996 12
METADATA_DATE: 2000 05 29
DATA_FILE_SIZE: 43787844
BYTE_COUNT: 5706
