FILENAME: O4511218.SES.788745.tif
QUADRANGLE_NAME: CATTLE GULCH
QUADRANT: SE
WEST_LONGITUDE: -112 48 45.00000
EAST_LONGITUDE: -112 45 0.00000
NORTH_LATITUDE: 45 41 15.00000
SOUTH_LATITUDE: 45 37 30.00000
PRODUCTION_DATE: 1997 11 26
RASTER_ORDER: LEFT_RIGHT/TOP_BOTTOM
BAND_ORGANIZATION: SINGLE FILE
BAND_CONTENT: BLACK&WHITE
BAND_CONTENT: UNDEFINED
BAND_CONTENT: UNDEFINED
BITS_PER_PIXEL: 8
SAMPLES_AND_LINES: 5691 7659
HORIZONTAL_DATUM: NAD83
HORIZONTAL_COORDINATE_SYSTEM: UTM
COORDINATE_ZONE: 12
HORIZONTAL_UNITS: METERS
HORIZONTAL_RESOLUTION: 1.00000
SECONDARY_HORIZONTAL_DATUM: NAD27
XY_ORIGIN: 358342.34300 5061224.63000
SECONDARY_XY_ORIGIN: 358405.57300 5061013.61400
NATION: US
STATE: MT
NW_QUAD_CORNER_XY: 358866.47100 5060925.13000
NE_QUAD_CORNER_XY: 363733.11000 5060816.83500
SE_QUAD_CORNERY_XY: 363581.38900 5053873.14600
SW_QUAD_CORNER_XY: 358709.32900 5053981.44500
SECONDARY_NW_QUAD_XY: 358862.24200 5060707.42700
SECONDARY_NE_QUAD_XY: 363729.02700 5060599.12900
SECONDARY_SE_QUAD_XY: 363577.30700 5053655.48600
SECONDARY_SW_QUAD_XY: 358705.10100 5053763.78900
RMSE_XY: 3.00000
IMAGE_SOURCE: BLACK AND WHITE FILM
SOURCE_IMAGE_ID: NAPP 9483 131
SOURCE_IMAGE_DATE: 1995 8 14
SOURCE_DEM_DATE: 1997 11 26
AGENCY: WESTERN MAPPING CENTER (WMC)
PRODUCER: NIES MAPPING GROUP
PRODUCTION_SYSTEM: INTERGRAPH-ISIR
COMPRESSION: UNDEFINED
STANDARD_VERSION: 1996 12
METADATA_DATE: 1998 2 11
DATA_FILE_SIZE: 43593060
BYTE_COUNT: 5691
