FILENAME: O4511218.NES.788738.tif
QUADRANGLE_NAME: CATTLE GULCH
QUADRANT: NE
WEST_LONGITUDE: -112 48 45.00000
EAST_LONGITUDE: -112 45 0.00000
NORTH_LATITUDE: 45 45 0.00000
SOUTH_LATITUDE: 45 41 15.00000
PRODUCTION_DATE: 1997 11 26
RASTER_ORDER: LEFT_RIGHT/TOP_BOTTOM
BAND_ORGANIZATION: SINGLE FILE
BAND_CONTENT: BLACK&WHITE
BAND_CONTENT: UNDEFINED
BAND_CONTENT: UNDEFINED
BITS_PER_PIXEL: 8
SAMPLES_AND_LINES: 5686 7659
HORIZONTAL_DATUM: NAD83
HORIZONTAL_COORDINATE_SYSTEM: UTM
COORDINATE_ZONE: 12
HORIZONTAL_UNITS: METERS
HORIZONTAL_RESOLUTION: 1.00000
SECONDARY_HORIZONTAL_DATUM: NAD27
XY_ORIGIN: 358499.51400 5068168.38200
SECONDARY_XY_ORIGIN: 358562.71500 5067957.33500
NATION: US
STATE: MT
NW_QUAD_CORNER_XY: 359023.78300 5067868.88200
NE_QUAD_CORNER_XY: 363884.99300 5067760.59400
SE_QUAD_CORNERY_XY: 363733.11000 5060816.83500
SW_QUAD_CORNER_XY: 358866.47100 5060925.13000
SECONDARY_NW_QUAD_XY: 359019.55300 5067651.13400
SECONDARY_NE_QUAD_XY: 363880.90900 5067542.84200
SECONDARY_SE_QUAD_XY: 363729.02700 5060599.12900
SECONDARY_SW_QUAD_XY: 358862.24200 5060707.42700
RMSE_XY: 1.70000
IMAGE_SOURCE: BLACK AND WHITE FILM
SOURCE_IMAGE_ID: NAPP 9483 133
SOURCE_IMAGE_DATE: 1995 8 14
SOURCE_DEM_DATE: 1997 11 26
AGENCY: WESTERN MAPPING CENTER (WMC)
PRODUCER: NIES MAPPING GROUP
PRODUCTION_SYSTEM: INTERGRAPH-ISIR
COMPRESSION: UNDEFINED
STANDARD_VERSION: 1996 12
METADATA_DATE: 1998 2 11
DATA_FILE_SIZE: 43554760
BYTE_COUNT: 5686
