FILENAME: O4511219.SES.788750.tif
QUADRANGLE_NAME: MELROSE
QUADRANT: SE
WEST_LONGITUDE: -112 41 15.00000
EAST_LONGITUDE: -112 37 30.00000
NORTH_LATITUDE: 45 41 15.00000
SOUTH_LATITUDE: 45 37 30.00000
PRODUCTION_DATE: 1997 11 26
RASTER_ORDER: LEFT_RIGHT/TOP_BOTTOM
BAND_ORGANIZATION: SINGLE FILE
BAND_CONTENT: BLACK&WHITE
BAND_CONTENT: UNDEFINED
BAND_CONTENT: UNDEFINED
BITS_PER_PIXEL: 8
SAMPLES_AND_LINES: 5680 7651
HORIZONTAL_DATUM: NAD83
HORIZONTAL_COORDINATE_SYSTEM: UTM
COORDINATE_ZONE: 12
HORIZONTAL_UNITS: METERS
HORIZONTAL_RESOLUTION: 1.00000
SECONDARY_HORIZONTAL_DATUM: NAD27
XY_ORIGIN: 368086.94700 5061011.84300
SECONDARY_XY_ORIGIN: 368150.02000 5060800.91800
NATION: US
STATE: MT
NW_QUAD_CORNER_XY: 368599.75200 5060712.34300
NE_QUAD_CORNER_XY: 373466.39800 5060611.65200
SE_QUAD_CORNERY_XY: 373325.52000 5053667.95300
SW_QUAD_CORNER_XY: 368453.45300 5053768.64900
SECONDARY_NW_QUAD_XY: 368595.81500 5060494.63400
SECONDARY_NE_QUAD_XY: 373462.60600 5060393.94000
SECONDARY_SE_QUAD_XY: 373321.73000 5053450.28800
SECONDARY_SW_QUAD_XY: 368449.51700 5053550.98600
RMSE_XY: 2.50000
IMAGE_SOURCE: BLACK AND WHITE FILM
SOURCE_IMAGE_ID: NAPP 8382 34
SOURCE_IMAGE_DATE: 1995 8 1
SOURCE_DEM_DATE: 1997 11 26
AGENCY: WESTERN MAPPING CENTER (WMC)
PRODUCER: NIES MAPPING GROUP
PRODUCTION_SYSTEM: INTERGRAPH-ISIR
COMPRESSION: UNDEFINED
STANDARD_VERSION: 1996 12
METADATA_DATE: 1998 2 11
DATA_FILE_SIZE: 43463360
BYTE_COUNT: 5680
