FILENAME: O4511220.NES.788247.tif
QUADRANGLE_NAME: WICKIUP CREEK
QUADRANT: NE
WEST_LONGITUDE: -112 33 45.00000
EAST_LONGITUDE: -112 30 0.00000
NORTH_LATITUDE: 45 45 0.00000
SOUTH_LATITUDE: 45 41 15.00000
PRODUCTION_DATE: 1997 12 1
RASTER_ORDER: LEFT_RIGHT/TOP_BOTTOM
BAND_ORGANIZATION: SINGLE FILE
BAND_CONTENT: BLACK&WHITE
BAND_CONTENT: UNDEFINED
BAND_CONTENT: UNDEFINED
BITS_PER_PIXEL: 8
SAMPLES_AND_LINES: 5663 7644
HORIZONTAL_DATUM: NAD83
HORIZONTAL_COORDINATE_SYSTEM: UTM
COORDINATE_ZONE: 12
HORIZONTAL_UNITS: METERS
HORIZONTAL_RESOLUTION: 1.00000
SECONDARY_HORIZONTAL_DATUM: NAD27
XY_ORIGIN: 377967.08400 5067758.03700
SECONDARY_XY_ORIGIN: 378029.93500 5067547.16200
NATION: US
STATE: MT
NW_QUAD_CORNER_XY: 378468.64900 5067458.53700
NE_QUAD_CORNER_XY: 383329.87500 5067365.45500
SE_QUAD_CORNERY_XY: 383199.69900 5060421.67600
SW_QUAD_CORNER_XY: 378333.04700 5060514.76300
SECONDARY_NW_QUAD_XY: 378465.00200 5067240.77600
SECONDARY_NE_QUAD_XY: 383326.37400 5067147.69100
SECONDARY_SE_QUAD_XY: 383196.19900 5060203.95800
SECONDARY_SW_QUAD_XY: 378329.40100 5060297.04800
RMSE_XY: 3.10000
IMAGE_SOURCE: BLACK AND WHITE FILM
SOURCE_IMAGE_ID: NAPP 8382 159
SOURCE_IMAGE_DATE: 1995 8 1
SOURCE_DEM_DATE: 1997 12 1
AGENCY: WESTERN MAPPING CENTER (WMC)
PRODUCER: NIES MAPPING GROUP
PRODUCTION_SYSTEM: INTERGRAPH-ISIR
COMPRESSION: UNDEFINED
STANDARD_VERSION: 1996 12
METADATA_DATE: 1998 2 9
DATA_FILE_SIZE: 43293635
BYTE_COUNT: 5663
