FILENAME: O4511221.NWS.788255.tif
QUADRANGLE_NAME: TABLE MOUNTAIN
QUADRANT: NW
WEST_LONGITUDE: -112 30 0.00000
EAST_LONGITUDE: -112 26 15.00000
NORTH_LATITUDE: 45 45 0.00000
SOUTH_LATITUDE: 45 41 15.00000
PRODUCTION_DATE: 1997 12 1
RASTER_ORDER: LEFT_RIGHT/TOP_BOTTOM
BAND_ORGANIZATION: SINGLE FILE
BAND_CONTENT: BLACK&WHITE
BAND_CONTENT: UNDEFINED
BAND_CONTENT: UNDEFINED
BITS_PER_PIXEL: 8
SAMPLES_AND_LINES: 5658 7640
HORIZONTAL_DATUM: NAD83
HORIZONTAL_COORDINATE_SYSTEM: UTM
COORDINATE_ZONE: 12
HORIZONTAL_UNITS: METERS
HORIZONTAL_RESOLUTION: 1.00000
SECONDARY_HORIZONTAL_DATUM: NAD27
XY_ORIGIN: 382834.00500 5067664.95500
SECONDARY_XY_ORIGIN: 382896.75000 5067454.12100
NATION: US
STATE: MT
NW_QUAD_CORNER_XY: 383329.87500 5067365.45500
NE_QUAD_CORNER_XY: 388191.10400 5067276.17300
SE_QUAD_CORNERY_XY: 388066.35500 5060332.38900
SW_QUAD_CORNER_XY: 383199.69900 5060421.67600
SECONDARY_NW_QUAD_XY: 383326.37400 5067147.69100
SECONDARY_NE_QUAD_XY: 388187.74900 5067058.40600
SECONDARY_SE_QUAD_XY: 388063.00100 5060114.66900
SECONDARY_SW_QUAD_XY: 383196.19900 5060203.95800
RMSE_XY: 1.90000
IMAGE_SOURCE: BLACK AND WHITE FILM
SOURCE_IMAGE_ID: NAPP 9485 223
SOURCE_IMAGE_DATE: 1995 8 20
SOURCE_DEM_DATE: 1997 12 1
AGENCY: WESTERN MAPPING CENTER (WMC)
PRODUCER: NIES MAPPING GROUP
PRODUCTION_SYSTEM: INTERGRAPH-ISIR
COMPRESSION: UNDEFINED
STANDARD_VERSION: 1996 12
METADATA_DATE: 1998 2 9
DATA_FILE_SIZE: 43232778
BYTE_COUNT: 5658
