FILENAME: O4511224.SES.1076936.tif
QUADRANGLE_NAME: MANHEAD MOUNTAIN
QUADRANT: SE
WEST_LONGITUDE: -112 3 45.00000
EAST_LONGITUDE: -112 0 0.00000
NORTH_LATITUDE: 45 41 15.00000
SOUTH_LATITUDE: 45 37 30.00000
PRODUCTION_DATE: 2000 4 7
RASTER_ORDER: LEFT_RIGHT/TOP_BOTTOM
BAND_ORGANIZATION: SINGLE FILE
BAND_CONTENT: BLACK&WHITE
BAND_CONTENT: UNDEFINED
BAND_CONTENT: UNDEFINED
BITS_PER_PIXEL: 8
SAMPLES_AND_LINES: 5626 7617
HORIZONTAL_DATUM: NAD83
HORIZONTAL_COORDINATE_SYSTEM: UTM
COORDINATE_ZONE: 12
HORIZONTAL_UNITS: METERS
HORIZONTAL_RESOLUTION: 1.00000
SECONDARY_HORIZONTAL_DATUM: NAD27
XY_ORIGIN: 416809.00000 5060177.00000
SECONDARY_XY_ORIGIN: 416870.74100 5059966.60100
NATION: US
NATION: "SCIENCE
STATE: MT
NW_QUAD_CORNER_XY: 417266.34700 5059876.48300
NE_QUAD_CORNER_XY: 422133.02100 5059813.79900
SE_QUAD_CORNERY_XY: 422046.34200 5052870.06300
SW_QUAD_CORNER_XY: 417174.24900 5052932.74900
SECONDARY_NW_QUAD_XY: 417263.86900 5059658.74800
SECONDARY_NE_QUAD_XY: 422130.68800 5059596.06300
SECONDARY_SE_QUAD_XY: 422044.00900 5052652.37300
SECONDARY_SW_QUAD_XY: 417171.77100 5052715.06200
RMSE_XY: 3.70000
IMAGE_SOURCE: BLACK AND WHITE FILM
SOURCE_IMAGE_ID: NAPP 9492 011
SOURCE_IMAGE_DATE: 1995 09 12
SOURCE_IMAGE_ID: NAPP 9484 240
SOURCE_IMAGE_DATE: 1995 08 14
SOURCE_IMAGE_ID: NAPP 9492 010
SOURCE_IMAGE_DATE: 1995 09 12
SOURCE_IMAGE_ID: NAPP 9492 012
SOURCE_IMAGE_DATE: 1995 09 12
SOURCE_DEM_DATE: 2000 01 01
AGENCY: WESTERN MAPPING CENTER (WMC)
PRODUCER: UNDEFINED
PRODUCTION_SYSTEM: GIS/MAGIC
COMPRESSION: UNDEFINED
STANDARD_VERSION: 1996 12
METADATA_DATE: 2000 05 31
DATA_FILE_SIZE: 42858868
BYTE_COUNT: 5626
