FILENAME: O4511224.NWS.1076934.tif
QUADRANGLE_NAME: MANHEAD MOUNTAIN
QUADRANT: NW
WEST_LONGITUDE: -112 7 30.00000
EAST_LONGITUDE: -112 3 45.00000
NORTH_LATITUDE: 45 45 0.00000
SOUTH_LATITUDE: 45 41 15.00000
PRODUCTION_DATE: 2000 4 7
RASTER_ORDER: LEFT_RIGHT/TOP_BOTTOM
BAND_ORGANIZATION: SINGLE FILE
BAND_CONTENT: BLACK&WHITE
BAND_CONTENT: UNDEFINED
BAND_CONTENT: UNDEFINED
BITS_PER_PIXEL: 8
SAMPLES_AND_LINES: 5626 7620
HORIZONTAL_DATUM: NAD83
HORIZONTAL_COORDINATE_SYSTEM: UTM
COORDINATE_ZONE: 12
HORIZONTAL_UNITS: METERS
HORIZONTAL_RESOLUTION: 1.00000
SECONDARY_HORIZONTAL_DATUM: NAD27
XY_ORIGIN: 412034.00000 5067187.00000
SECONDARY_XY_ORIGIN: 412095.79600 5066976.48700
NATION: US
NATION: "SCIENCE
STATE: MT
NW_QUAD_CORNER_XY: 412497.29800 5066886.77000
NE_QUAD_CORNER_XY: 417358.54500 5066820.29000
SE_QUAD_CORNERY_XY: 417266.34700 5059876.48300
SW_QUAD_CORNER_XY: 412399.67600 5059942.96600
SECONDARY_NW_QUAD_XY: 412494.67200 5066668.99200
SECONDARY_NE_QUAD_XY: 417356.06500 5066602.51000
SECONDARY_SE_QUAD_XY: 417263.86900 5059658.74800
SECONDARY_SW_QUAD_XY: 412397.05100 5059725.23400
RMSE_XY: 1.50000
IMAGE_SOURCE: BLACK AND WHITE FILM
SOURCE_IMAGE_ID: NAPP 9484 238
SOURCE_IMAGE_DATE: 1995 08 14
SOURCE_IMAGE_ID: NAPP 9484 239
SOURCE_IMAGE_DATE: 1995 08 14
SOURCE_IMAGE_ID: NAPP 9483 040
SOURCE_IMAGE_DATE: 1995 08 14
SOURCE_DEM_DATE: 2000 01 01
AGENCY: WESTERN MAPPING CENTER (WMC)
PRODUCER: UNDEFINED
PRODUCTION_SYSTEM: GIS/MAGIC
COMPRESSION: UNDEFINED
STANDARD_VERSION: 1996 12
METADATA_DATE: 2000 05 31
DATA_FILE_SIZE: 42875746
BYTE_COUNT: 5626
