FILENAME: O4511225.NWS.1076893.tif
QUADRANGLE_NAME: MOUNT TAHEPIA
QUADRANT: NW
WEST_LONGITUDE: -113 0 0.00000
EAST_LONGITUDE: -112 56 15.00000
NORTH_LATITUDE: 45 37 30.00000
SOUTH_LATITUDE: 45 33 45.00000
PRODUCTION_DATE: 2000 4 19
RASTER_ORDER: LEFT_RIGHT/TOP_BOTTOM
BAND_ORGANIZATION: SINGLE FILE
BAND_CONTENT: BLACK&WHITE
BAND_CONTENT: UNDEFINED
BAND_CONTENT: UNDEFINED
BITS_PER_PIXEL: 8
SAMPLES_AND_LINES: 5717 7673
HORIZONTAL_DATUM: NAD83
HORIZONTAL_COORDINATE_SYSTEM: UTM
COORDINATE_ZONE: 12
HORIZONTAL_UNITS: METERS
HORIZONTAL_RESOLUTION: 1.00000
SECONDARY_HORIZONTAL_DATUM: NAD27
XY_ORIGIN: 343550.00000 5054630.00000
SECONDARY_XY_ORIGIN: 343613.41100 5054418.94500
NATION: US
NATION: "SCIENCE
STATE: MT
NW_QUAD_CORNER_XY: 344093.16900 5054329.15900
NE_QUAD_CORNER_XY: 348965.21800 5054209.45200
SE_QUAD_CORNERY_XY: 348797.41200 5047265.84600
SW_QUAD_CORNER_XY: 343919.94500 5047385.55900
SECONDARY_NW_QUAD_XY: 344088.50300 5054111.51400
SECONDARY_NE_QUAD_XY: 348960.69900 5053991.80200
SECONDARY_SE_QUAD_XY: 348792.89300 5047048.24400
SECONDARY_SW_QUAD_XY: 343915.28000 5047167.96000
RMSE_XY: 2.40000
IMAGE_SOURCE: BLACK AND WHITE FILM
SOURCE_IMAGE_ID: NAPP 9483 155
SOURCE_IMAGE_DATE: 1995 08 14
SOURCE_IMAGE_ID: NAPP 8404 006
SOURCE_IMAGE_DATE: 1995 09 12
SOURCE_IMAGE_ID: NAPP 8404 005
SOURCE_IMAGE_DATE: 1995 09 12
SOURCE_IMAGE_ID: NAPP 9485 126
SOURCE_IMAGE_DATE: 1995 08 20
SOURCE_IMAGE_ID: NAPP 9485 124
SOURCE_IMAGE_DATE: 1995 08 20
SOURCE_DEM_DATE: 1984 00 00
AGENCY: WESTERN MAPPING CENTER (WMC)
PRODUCER: UNDEFINED
PRODUCTION_SYSTEM: GIS/MAGIC
COMPRESSION: UNDEFINED
STANDARD_VERSION: 1996 12
METADATA_DATE: 2000 05 29
DATA_FILE_SIZE: 43872258
BYTE_COUNT: 5717
