FILENAME: O4511226.NES.788753.tif
QUADRANGLE_NAME: STORM PEAK
QUADRANT: NE
WEST_LONGITUDE: -112 48 45.00000
EAST_LONGITUDE: -112 45 0.00000
NORTH_LATITUDE: 45 37 30.00000
SOUTH_LATITUDE: 45 33 45.00000
PRODUCTION_DATE: 1997 11 25
RASTER_ORDER: LEFT_RIGHT/TOP_BOTTOM
BAND_ORGANIZATION: SINGLE FILE
BAND_CONTENT: BLACK&WHITE
BAND_CONTENT: UNDEFINED
BAND_CONTENT: UNDEFINED
BITS_PER_PIXEL: 8
SAMPLES_AND_LINES: 5697 7659
HORIZONTAL_DATUM: NAD83
HORIZONTAL_COORDINATE_SYSTEM: UTM
COORDINATE_ZONE: 12
HORIZONTAL_UNITS: METERS
HORIZONTAL_RESOLUTION: 1.00000
SECONDARY_HORIZONTAL_DATUM: NAD27
XY_ORIGIN: 358185.34100 5054280.94500
SECONDARY_XY_ORIGIN: 358248.60200 5054069.96100
NATION: US
STATE: MT
NW_QUAD_CORNER_XY: 358709.32900 5053981.44500
NE_QUAD_CORNER_XY: 363581.38900 5053873.14600
SE_QUAD_CORNERY_XY: 363429.83200 5046929.52600
SW_QUAD_CORNER_XY: 358552.35500 5047037.83000
SECONDARY_NW_QUAD_XY: 358705.10100 5053763.78900
SECONDARY_NE_QUAD_XY: 363577.30700 5053655.48600
SECONDARY_SE_QUAD_XY: 363425.75100 5046711.91400
SECONDARY_SW_QUAD_XY: 358548.12900 5046820.22100
RMSE_XY: 2.20000
IMAGE_SOURCE: BLACK AND WHITE FILM
SOURCE_IMAGE_ID: NAPP 9483 129
SOURCE_IMAGE_DATE: 1995 8 14
SOURCE_DEM_DATE: 1997 11 25
AGENCY: WESTERN MAPPING CENTER (WMC)
PRODUCER: NIES MAPPING GROUP
PRODUCTION_SYSTEM: INTERGRAPH-ISIR
COMPRESSION: UNDEFINED
STANDARD_VERSION: 1996 12
METADATA_DATE: 1998 2 11
DATA_FILE_SIZE: 43639020
BYTE_COUNT: 5697
