FILENAME: O4511227.SES.792706.tif
QUADRANGLE_NAME: EARLS GULCH
QUADRANT: SE
WEST_LONGITUDE: -112 41 15.00000
EAST_LONGITUDE: -112 37 30.00000
NORTH_LATITUDE: 45 33 45.00000
SOUTH_LATITUDE: 45 30 0.00000
PRODUCTION_DATE: 1997 11 25
RASTER_ORDER: LEFT_RIGHT/TOP_BOTTOM
BAND_ORGANIZATION: SINGLE FILE
BAND_CONTENT: BLACK&WHITE
BAND_CONTENT: UNDEFINED
BAND_CONTENT: UNDEFINED
BITS_PER_PIXEL: 8
SAMPLES_AND_LINES: 5690 7651
HORIZONTAL_DATUM: NAD83
HORIZONTAL_COORDINATE_SYSTEM: UTM
COORDINATE_ZONE: 12
HORIZONTAL_UNITS: METERS
HORIZONTAL_RESOLUTION: 1.00000
SECONDARY_HORIZONTAL_DATUM: NAD27
XY_ORIGIN: 367794.81000 5047124.52400
SECONDARY_XY_ORIGIN: 367857.90100 5046913.66400
NATION: US
STATE: MT
NW_QUAD_CORNER_XY: 368307.31200 5046825.02400
NE_QUAD_CORNER_XY: 373184.79500 5046724.32400
SE_QUAD_CORNERY_XY: 373044.22100 5039780.76600
SW_QUAD_CORNER_XY: 368161.32800 5039881.46900
SECONDARY_NW_QUAD_XY: 368303.37700 5046607.40900
SECONDARY_NE_QUAD_XY: 373181.00500 5046506.70600
SECONDARY_SE_QUAD_XY: 373040.43200 5039563.19600
SECONDARY_SW_QUAD_XY: 368157.39400 5039663.90200
RMSE_XY: 1.60000
IMAGE_SOURCE: BLACK AND WHITE FILM
SOURCE_IMAGE_ID: NAPP 8382 30
SOURCE_IMAGE_DATE: 1995 8 1
SOURCE_DEM_DATE: 1997 11 25
AGENCY: WESTERN MAPPING CENTER (WMC)
PRODUCER: NIES MAPPING GROUP
PRODUCTION_SYSTEM: INTERGRAPH-ISIR
COMPRESSION: UNDEFINED
STANDARD_VERSION: 1996 12
METADATA_DATE: 1998 2 11
DATA_FILE_SIZE: 43539880
BYTE_COUNT: 5690
