FILENAME: O4511227.NWS.792705.tif
QUADRANGLE_NAME: EARLS GULCH
QUADRANT: NW
WEST_LONGITUDE: -112 45 0.00000
EAST_LONGITUDE: -112 41 15.00000
NORTH_LATITUDE: 45 37 30.00000
SOUTH_LATITUDE: 45 33 45.00000
PRODUCTION_DATE: 1997 11 25
RASTER_ORDER: LEFT_RIGHT/TOP_BOTTOM
BAND_ORGANIZATION: SINGLE FILE
BAND_CONTENT: BLACK&WHITE
BAND_CONTENT: UNDEFINED
BAND_CONTENT: UNDEFINED
BITS_PER_PIXEL: 8
SAMPLES_AND_LINES: 5691 7655
HORIZONTAL_DATUM: NAD83
HORIZONTAL_COORDINATE_SYSTEM: UTM
COORDINATE_ZONE: 12
HORIZONTAL_UNITS: METERS
HORIZONTAL_RESOLUTION: 1.00000
SECONDARY_HORIZONTAL_DATUM: NAD27
XY_ORIGIN: 363063.01900 5054172.64600
SECONDARY_XY_ORIGIN: 363126.23100 5053961.68700
NATION: US
STATE: MT
NW_QUAD_CORNER_XY: 363581.38900 5053873.14600
NE_QUAD_CORNER_XY: 368453.45300 5053768.64900
SE_QUAD_CORNERY_XY: 368307.31200 5046825.02400
SW_QUAD_CORNER_XY: 363429.83200 5046929.52600
SECONDARY_NW_QUAD_XY: 363577.30700 5053655.48600
SECONDARY_NE_QUAD_XY: 368449.51700 5053550.98600
SECONDARY_SE_QUAD_XY: 368303.37700 5046607.40900
SECONDARY_SW_QUAD_XY: 363425.75100 5046711.91400
RMSE_XY: 1.30000
IMAGE_SOURCE: BLACK AND WHITE FILM
SOURCE_IMAGE_ID: NAPP 9483 54
SOURCE_IMAGE_DATE: 1995 8 14
SOURCE_DEM_DATE: 1997 11 25
AGENCY: WESTERN MAPPING CENTER (WMC)
PRODUCER: NIES MAPPING GROUP
PRODUCTION_SYSTEM: INTERGRAPH-ISIR
COMPRESSION: UNDEFINED
STANDARD_VERSION: 1996 12
METADATA_DATE: 1998 2 11
DATA_FILE_SIZE: 43570296
BYTE_COUNT: 5691
