FILENAME: O4511228.SES.788784.tif
QUADRANGLE_NAME: NEZ PERCE HOLLOW
QUADRANT: SE
WEST_LONGITUDE: -112 33 45.00000
EAST_LONGITUDE: -112 30 0.00000
NORTH_LATITUDE: 45 33 45.00000
SOUTH_LATITUDE: 45 30 0.00000
PRODUCTION_DATE: 1997 11 25
RASTER_ORDER: LEFT_RIGHT/TOP_BOTTOM
BAND_ORGANIZATION: SINGLE FILE
BAND_CONTENT: BLACK&WHITE
BAND_CONTENT: UNDEFINED
BAND_CONTENT: UNDEFINED
BITS_PER_PIXEL: 8
SAMPLES_AND_LINES: 5679 7644
HORIZONTAL_DATUM: NAD83
HORIZONTAL_COORDINATE_SYSTEM: UTM
COORDINATE_ZONE: 12
HORIZONTAL_UNITS: METERS
HORIZONTAL_RESOLUTION: 1.00000
SECONDARY_HORIZONTAL_DATUM: NAD27
XY_ORIGIN: 377561.23200 5046926.92700
SECONDARY_XY_ORIGIN: 377624.01400 5046716.23800
NATION: US
STATE: MT
NW_QUAD_CORNER_XY: 378062.28000 5046627.42700
NE_QUAD_CORNER_XY: 382939.76800 5046534.33100
SE_QUAD_CORNERY_XY: 382810.01300 5039590.76500
SW_QUAD_CORNER_XY: 377927.11500 5039683.86500
SECONDARY_NW_QUAD_XY: 378058.63600 5046409.80600
SECONDARY_NE_QUAD_XY: 382936.27000 5046316.70700
SECONDARY_SE_QUAD_XY: 382806.51500 5039373.19000
SECONDARY_SW_QUAD_XY: 377923.47300 5039466.29200
RMSE_XY: 3.20000
IMAGE_SOURCE: BLACK AND WHITE FILM
SOURCE_IMAGE_ID: NAPP 8382 153
SOURCE_IMAGE_DATE: 1995 8 1
SOURCE_DEM_DATE: 1997 11 25
AGENCY: WESTERN MAPPING CENTER (WMC)
PRODUCER: NIES MAPPING GROUP
PRODUCTION_SYSTEM: INTERGRAPH-ISIR
COMPRESSION: UNDEFINED
STANDARD_VERSION: 1996 12
METADATA_DATE: 1998 2 11
DATA_FILE_SIZE: 43415955
BYTE_COUNT: 5679
