FILENAME: O4511228.NES.788781.tif
QUADRANGLE_NAME: NEZ PERCE HOLLOW
QUADRANT: NE
WEST_LONGITUDE: -112 33 45.00000
EAST_LONGITUDE: -112 30 0.00000
NORTH_LATITUDE: 45 37 30.00000
SOUTH_LATITUDE: 45 33 45.00000
PRODUCTION_DATE: 1997 11 25
RASTER_ORDER: LEFT_RIGHT/TOP_BOTTOM
BAND_ORGANIZATION: SINGLE FILE
BAND_CONTENT: BLACK&WHITE
BAND_CONTENT: UNDEFINED
BAND_CONTENT: UNDEFINED
BITS_PER_PIXEL: 8
SAMPLES_AND_LINES: 5674 7644
HORIZONTAL_DATUM: NAD83
HORIZONTAL_COORDINATE_SYSTEM: UTM
COORDINATE_ZONE: 12
HORIZONTAL_UNITS: METERS
HORIZONTAL_RESOLUTION: 1.00000
SECONDARY_HORIZONTAL_DATUM: NAD27
XY_ORIGIN: 377696.36900 5053870.56000
SECONDARY_XY_ORIGIN: 377759.17400 5053659.80800
NATION: US
STATE: MT
NW_QUAD_CORNER_XY: 378197.59000 5053571.06000
NE_QUAD_CORNER_XY: 383069.66400 5053477.96800
SE_QUAD_CORNERY_XY: 382939.76800 5046534.33100
SW_QUAD_CORNER_XY: 378062.28000 5046627.42700
SECONDARY_NW_QUAD_XY: 378193.94600 5053353.39100
SECONDARY_NE_QUAD_XY: 383066.16500 5053260.29600
SECONDARY_SE_QUAD_XY: 382936.27000 5046316.70700
SECONDARY_SW_QUAD_XY: 378058.63600 5046409.80600
RMSE_XY: 1.40000
IMAGE_SOURCE: BLACK AND WHITE FILM
SOURCE_IMAGE_ID: NAPP 8382 155
SOURCE_IMAGE_DATE: 1995 8 1
SOURCE_DEM_DATE: 1997 11 25
AGENCY: WESTERN MAPPING CENTER (WMC)
PRODUCER: NIES MAPPING GROUP
PRODUCTION_SYSTEM: INTERGRAPH-ISIR
COMPRESSION: UNDEFINED
STANDARD_VERSION: 1996 12
METADATA_DATE: 1998 2 11
DATA_FILE_SIZE: 43377730
BYTE_COUNT: 5674
