FILENAME: O4511229.SES.790385.tif
QUADRANGLE_NAME: TWIN BRIDGES SW
QUADRANT: SE
WEST_LONGITUDE: -112 26 15.00000
EAST_LONGITUDE: -112 22 30.00000
NORTH_LATITUDE: 45 33 45.00000
SOUTH_LATITUDE: 45 30 0.00000
PRODUCTION_DATE: 1997 11 14
RASTER_ORDER: LEFT_RIGHT/TOP_BOTTOM
BAND_ORGANIZATION: SINGLE FILE
BAND_CONTENT: BLACK&WHITE
BAND_CONTENT: UNDEFINED
BAND_CONTENT: UNDEFINED
BITS_PER_PIXEL: 8
SAMPLES_AND_LINES: 5668 7636
HORIZONTAL_DATUM: NAD83
HORIZONTAL_COORDINATE_SYSTEM: UTM
COORDINATE_ZONE: 12
HORIZONTAL_UNITS: METERS
HORIZONTAL_RESOLUTION: 1.00000
SECONDARY_HORIZONTAL_DATUM: NAD27
XY_ORIGIN: 387327.64400 5046744.53600
SECONDARY_XY_ORIGIN: 387390.10600 5046533.97800
NATION: US
STATE: MT
NW_QUAD_CORNER_XY: 387817.25900 5046445.03600
NE_QUAD_CORNER_XY: 392694.75200 5046359.54300
SE_QUAD_CORNERY_XY: 392575.81300 5039415.97100
SW_QUAD_CORNER_XY: 387692.91200 5039501.46700
SECONDARY_NW_QUAD_XY: 387813.90600 5046227.41000
SECONDARY_NE_QUAD_XY: 392691.54500 5046141.91400
SECONDARY_SE_QUAD_XY: 392572.60800 5039198.39000
SECONDARY_SW_QUAD_XY: 387689.56000 5039283.88900
RMSE_XY: 0.90000
IMAGE_SOURCE: BLACK AND WHITE FILM
SOURCE_IMAGE_ID: NAPP 8382 260
SOURCE_IMAGE_DATE: 1995 8 1
SOURCE_DEM_DATE: 1997 11 14
AGENCY: WESTERN MAPPING CENTER (WMC)
PRODUCER: NIES MAPPING GROUP
PRODUCTION_SYSTEM: INTERGRAPH- ISPM,ISIR
COMPRESSION: UNDEFINED
STANDARD_VERSION: 1996 12
METADATA_DATE: 1998 2 10
DATA_FILE_SIZE: 43286516
BYTE_COUNT: 5668
