FILENAME: O4511230.NWS.790394.tif
QUADRANGLE_NAME: TWIN BRIDGES
QUADRANT: NW
WEST_LONGITUDE: -112 22 30.00000
EAST_LONGITUDE: -112 18 45.00000
NORTH_LATITUDE: 45 37 30.00000
SOUTH_LATITUDE: 45 33 45.00000
PRODUCTION_DATE: 1997 11 14
RASTER_ORDER: LEFT_RIGHT/TOP_BOTTOM
BAND_ORGANIZATION: SINGLE FILE
BAND_CONTENT: BLACK&WHITE
BAND_CONTENT: UNDEFINED
BAND_CONTENT: UNDEFINED
BITS_PER_PIXEL: 8
SAMPLES_AND_LINES: 5657 7633
HORIZONTAL_DATUM: NAD83
HORIZONTAL_COORDINATE_SYSTEM: UTM
COORDINATE_ZONE: 12
HORIZONTAL_UNITS: METERS
HORIZONTAL_RESOLUTION: 1.00000
SECONDARY_HORIZONTAL_DATUM: NAD27
XY_ORIGIN: 392329.76500 5053602.68800
SECONDARY_XY_ORIGIN: 392392.07900 5053392.10300
NATION: US
STATE: MT
NW_QUAD_CORNER_XY: 392813.81800 5053303.18800
NE_QUAD_CORNER_XY: 397685.90000 5053221.49900
SE_QUAD_CORNERY_XY: 397572.24700 5046277.85100
SW_QUAD_CORNER_XY: 392694.75200 5046359.54300
SECONDARY_NW_QUAD_XY: 392810.61100 5053085.51100
SECONDARY_NE_QUAD_XY: 397682.83800 5053003.82000
SECONDARY_SE_QUAD_XY: 397569.18600 5046060.22000
SECONDARY_SW_QUAD_XY: 392691.54500 5046141.91400
RMSE_XY: 1.50000
IMAGE_SOURCE: BLACK AND WHITE FILM
SOURCE_IMAGE_ID: NAPP 9484 30
SOURCE_IMAGE_DATE: 1995 8 14
SOURCE_DEM_DATE: 1997 11 14
AGENCY: WESTERN MAPPING CENTER (WMC)
PRODUCER: NIES MAPPING GROUP
PRODUCTION_SYSTEM: INTERGRAPH- ISPM,ISIR
COMPRESSION: UNDEFINED
STANDARD_VERSION: 1996 12
METADATA_DATE: 1998 2 10
DATA_FILE_SIZE: 43185538
BYTE_COUNT: 5657
