FILENAME: O4511230.NES.790391.tif
QUADRANGLE_NAME: TWIN BRIDGES
QUADRANT: NE
WEST_LONGITUDE: -112 18 45.00000
EAST_LONGITUDE: -112 15 0.00000
NORTH_LATITUDE: 45 37 30.00000
SOUTH_LATITUDE: 45 33 45.00000
PRODUCTION_DATE: 1997 11 14
RASTER_ORDER: LEFT_RIGHT/TOP_BOTTOM
BAND_ORGANIZATION: SINGLE FILE
BAND_CONTENT: BLACK&WHITE
BAND_CONTENT: UNDEFINED
BAND_CONTENT: UNDEFINED
BITS_PER_PIXEL: 8
SAMPLES_AND_LINES: 5651 7629
HORIZONTAL_DATUM: NAD83
HORIZONTAL_COORDINATE_SYSTEM: UTM
COORDINATE_ZONE: 12
HORIZONTAL_UNITS: METERS
HORIZONTAL_RESOLUTION: 1.00000
SECONDARY_HORIZONTAL_DATUM: NAD27
XY_ORIGIN: 397207.57200 5053520.99900
SECONDARY_XY_ORIGIN: 397269.70700 5053310.46100
NATION: US
STATE: MT
NW_QUAD_CORNER_XY: 397685.90000 5053221.49900
NE_QUAD_CORNER_XY: 402557.98400 5053143.61100
SE_QUAD_CORNERY_XY: 402449.74500 5046199.96000
SW_QUAD_CORNER_XY: 397572.24700 5046277.85100
SECONDARY_NW_QUAD_XY: 397682.83800 5053003.82000
SECONDARY_NE_QUAD_XY: 402555.06800 5052925.93000
SECONDARY_SE_QUAD_XY: 402446.83000 5045982.32600
SECONDARY_SW_QUAD_XY: 397569.18600 5046060.22000
RMSE_XY: 1.40000
IMAGE_SOURCE: BLACK AND WHITE FILM
SOURCE_IMAGE_ID: NAPP 9484 109
SOURCE_IMAGE_DATE: 1995 8 14
SOURCE_DEM_DATE: 1997 11 14
AGENCY: WESTERN MAPPING CENTER (WMC)
PRODUCER: NIES MAPPING GROUP
PRODUCTION_SYSTEM: INTERGRAPH- ISPM,ISIR
COMPRESSION: UNDEFINED
STANDARD_VERSION: 1996 12
METADATA_DATE: 1998 2 10
DATA_FILE_SIZE: 43117130
BYTE_COUNT: 5651
