FILENAME: O4511232.NWS.789975.tif
QUADRANGLE_NAME: NOBLE PEAK
QUADRANT: NW
WEST_LONGITUDE: -112 7 30.00000
EAST_LONGITUDE: -112 3 45.00000
NORTH_LATITUDE: 45 37 30.00000
SOUTH_LATITUDE: 45 33 45.00000
PRODUCTION_DATE: 1997 11 24
RASTER_ORDER: LEFT_RIGHT/TOP_BOTTOM
BAND_ORGANIZATION: SINGLE FILE
BAND_CONTENT: BLACK&WHITE
BAND_CONTENT: UNDEFINED
BAND_CONTENT: UNDEFINED
BITS_PER_PIXEL: 8
SAMPLES_AND_LINES: 5634 7618
HORIZONTAL_DATUM: NAD83
HORIZONTAL_COORDINATE_SYSTEM: UTM
COORDINATE_ZONE: 12
HORIZONTAL_UNITS: METERS
HORIZONTAL_RESOLUTION: 1.00000
SECONDARY_HORIZONTAL_DATUM: NAD27
XY_ORIGIN: 411840.79600 5053298.73700
SECONDARY_XY_ORIGIN: 411902.61600 5053088.35400
NATION: US
STATE: MT
NW_QUAD_CORNER_XY: 412302.15800 5052999.23700
NE_QUAD_CORNER_XY: 417174.24900 5052932.75000
SE_QUAD_CORNERY_XY: 417082.25000 5045989.09000
SW_QUAD_CORNER_XY: 412204.74600 5046055.58000
SECONDARY_NW_QUAD_XY: 412299.53400 5052781.55100
SECONDARY_NE_QUAD_XY: 417171.77100 5052715.06200
SECONDARY_SE_QUAD_XY: 417079.77200 5045771.45000
SECONDARY_SW_QUAD_XY: 412202.12300 5045837.94200
RMSE_XY: 3.00000
IMAGE_SOURCE: BLACK AND WHITE FILM
SOURCE_IMAGE_ID: NAPP 9484 242
SOURCE_IMAGE_DATE: 1995 8 14
SOURCE_DEM_DATE: 1997 11 24
AGENCY: WESTERN MAPPING CENTER (WMC)
PRODUCER: NIES MAPPING GROUP
PRODUCTION_SYSTEM: INTERGRAPH- ISPM,ISIR
COMPRESSION: UNDEFINED
STANDARD_VERSION: 1996 12
METADATA_DATE: 1998 2 5
DATA_FILE_SIZE: 42925446
BYTE_COUNT: 5634
