FILENAME: O4511232.NES.789974.tif
QUADRANGLE_NAME: NOBLE PEAK
QUADRANT: NE
WEST_LONGITUDE: -112 3 45.00000
EAST_LONGITUDE: -112 0 0.00000
NORTH_LATITUDE: 45 37 30.00000
SOUTH_LATITUDE: 45 33 45.00000
PRODUCTION_DATE: 1997 11 21
RASTER_ORDER: LEFT_RIGHT/TOP_BOTTOM
BAND_ORGANIZATION: SINGLE FILE
BAND_CONTENT: BLACK&WHITE
BAND_CONTENT: UNDEFINED
BAND_CONTENT: UNDEFINED
BITS_PER_PIXEL: 8
SAMPLES_AND_LINES: 5628 7614
HORIZONTAL_DATUM: NAD83
HORIZONTAL_COORDINATE_SYSTEM: UTM
COORDINATE_ZONE: 12
HORIZONTAL_UNITS: METERS
HORIZONTAL_RESOLUTION: 1.00000
SECONDARY_HORIZONTAL_DATUM: NAD27
XY_ORIGIN: 416718.50600 5053232.25000
SECONDARY_XY_ORIGIN: 416780.26200 5053021.92100
NATION: US
STATE: MT
NW_QUAD_CORNER_XY: 417174.24900 5052932.75000
NE_QUAD_CORNER_XY: 422046.34200 5052870.06300
SE_QUAD_CORNERY_XY: 421959.75500 5045926.40100
SW_QUAD_CORNER_XY: 417082.25000 5045989.09000
SECONDARY_NW_QUAD_XY: 417171.77100 5052715.06200
SECONDARY_NE_QUAD_XY: 422044.00900 5052652.37400
SECONDARY_SE_QUAD_XY: 421957.42300 5045708.75900
SECONDARY_SW_QUAD_XY: 417079.77200 5045771.45000
RMSE_XY: 4.40000
IMAGE_SOURCE: BLACK AND WHITE FILM
SOURCE_IMAGE_ID: NAPP 9485 272
SOURCE_IMAGE_DATE: 1995 8 20
SOURCE_DEM_DATE: 1997 11 21
AGENCY: WESTERN MAPPING CENTER (WMC)
PRODUCER: NIES MAPPING GROUP
PRODUCTION_SYSTEM: INTERGRAPH- ISPM,ISIR
COMPRESSION: UNDEFINED
STANDARD_VERSION: 1996 12
METADATA_DATE: 1998 2 5
DATA_FILE_SIZE: 42857220
BYTE_COUNT: 5628
