FILENAME: O4511233.SWS.1076900.tif
QUADRANGLE_NAME: TORREY MOUNTAIN
QUADRANT: SW
WEST_LONGITUDE: -113 0 0.00000
EAST_LONGITUDE: -112 56 15.00000
NORTH_LATITUDE: 45 26 15.00000
SOUTH_LATITUDE: 45 22 30.00000
PRODUCTION_DATE: 2000 5 9
RASTER_ORDER: LEFT_RIGHT/TOP_BOTTOM
BAND_ORGANIZATION: SINGLE FILE
BAND_CONTENT: BLACK&WHITE
BAND_CONTENT: UNDEFINED
BAND_CONTENT: UNDEFINED
BITS_PER_PIXEL: 8
SAMPLES_AND_LINES: 5732 7673
HORIZONTAL_DATUM: NAD83
HORIZONTAL_COORDINATE_SYSTEM: UTM
COORDINATE_ZONE: 12
HORIZONTAL_UNITS: METERS
HORIZONTAL_RESOLUTION: 1.00000
SECONDARY_HORIZONTAL_DATUM: NAD27
XY_ORIGIN: 343032.00000 5033799.00000
SECONDARY_XY_ORIGIN: 343095.61300 5033588.18700
NATION: US
NATION: "SCIENCE
STATE: MT
NW_QUAD_CORNER_XY: 343574.05700 5033498.55900
NE_QUAD_CORNER_XY: 348462.34100 5033378.83700
SE_QUAD_CORNERY_XY: 348295.07800 5026435.43500
SW_QUAD_CORNER_XY: 343401.39400 5026555.15900
SECONDARY_NW_QUAD_XY: 343569.39500 5033281.05800
SECONDARY_NE_QUAD_XY: 348457.82500 5033161.33300
SECONDARY_SE_QUAD_XY: 348290.56300 5026217.98000
SECONDARY_SW_QUAD_XY: 343396.73300 5026337.70800
RMSE_XY: 1.60000
IMAGE_SOURCE: BLACK AND WHITE FILM
SOURCE_IMAGE_ID: NAPP 9485 131
SOURCE_IMAGE_DATE: 1995 08 20
SOURCE_IMAGE_ID: NAPP 9485 132
SOURCE_IMAGE_DATE: 1995 08 20
SOURCE_IMAGE_ID: NAPP 9485 130
SOURCE_IMAGE_DATE: 1995 08 20
SOURCE_DEM_DATE: 2000 01 01
AGENCY: WESTERN MAPPING CENTER (WMC)
PRODUCER: UNDEFINED
PRODUCTION_SYSTEM: GIS/MAGIC
COMPRESSION: UNDEFINED
STANDARD_VERSION: 1996 12
METADATA_DATE: 2000 05 29
DATA_FILE_SIZE: 43987368
BYTE_COUNT: 5732
