FILENAME: O4511235.NWS.792713.tif
QUADRANGLE_NAME: GLEN
QUADRANT: NW
WEST_LONGITUDE: -112 45 0.00000
EAST_LONGITUDE: -112 41 15.00000
NORTH_LATITUDE: 45 30 0.00000
SOUTH_LATITUDE: 45 26 15.00000
PRODUCTION_DATE: 1997 11 25
RASTER_ORDER: LEFT_RIGHT/TOP_BOTTOM
BAND_ORGANIZATION: SINGLE FILE
BAND_CONTENT: BLACK&WHITE
BAND_CONTENT: UNDEFINED
BAND_CONTENT: UNDEFINED
BITS_PER_PIXEL: 8
SAMPLES_AND_LINES: 5702 7655
HORIZONTAL_DATUM: NAD83
HORIZONTAL_COORDINATE_SYSTEM: UTM
COORDINATE_ZONE: 12
HORIZONTAL_UNITS: METERS
HORIZONTAL_RESOLUTION: 1.00000
SECONDARY_HORIZONTAL_DATUM: NAD27
XY_ORIGIN: 362760.28800 5040285.47500
SECONDARY_XY_ORIGIN: 362823.54800 5040074.55800
NATION: US
STATE: MT
NW_QUAD_CORNER_XY: 363278.43900 5039985.97500
NE_QUAD_CORNER_XY: 368161.32800 5039881.46900
SE_QUAD_CORNERY_XY: 368015.50300 5032937.98400
SW_QUAD_CORNER_XY: 363127.20900 5033042.49300
SECONDARY_NW_QUAD_XY: 363274.35800 5039768.41100
SECONDARY_NE_QUAD_XY: 368157.39400 5039663.90200
SECONDARY_SE_QUAD_XY: 368011.56900 5032720.46600
SECONDARY_SW_QUAD_XY: 363123.13000 5032824.97900
RMSE_XY: 1.50000
IMAGE_SOURCE: BLACK AND WHITE FILM
SOURCE_IMAGE_ID: NAPP 9483 58
SOURCE_IMAGE_DATE: 1995 8 14
SOURCE_DEM_DATE: 1997 11 25
AGENCY: WESTERN MAPPING CENTER (WMC)
PRODUCER: NIES MAPPING GROUP
PRODUCTION_SYSTEM: INTERGRAPH-ISIR
COMPRESSION: UNDEFINED
STANDARD_VERSION: 1996 12
METADATA_DATE: 1998 2 11
DATA_FILE_SIZE: 43654512
BYTE_COUNT: 5702
