FILENAME: O4511237.SWS.790403.tif
QUADRANGLE_NAME: BEAVERHEAD ROCK
QUADRANT: SW
WEST_LONGITUDE: -112 30 0.00000
EAST_LONGITUDE: -112 26 15.00000
NORTH_LATITUDE: 45 26 15.00000
SOUTH_LATITUDE: 45 22 30.00000
PRODUCTION_DATE: 1997 11 14
RASTER_ORDER: LEFT_RIGHT/TOP_BOTTOM
BAND_ORGANIZATION: SINGLE FILE
BAND_CONTENT: BLACK&WHITE
BAND_CONTENT: UNDEFINED
BAND_CONTENT: UNDEFINED
BITS_PER_PIXEL: 8
SAMPLES_AND_LINES: 5684 7640
HORIZONTAL_DATUM: NAD83
HORIZONTAL_COORDINATE_SYSTEM: UTM
COORDINATE_ZONE: 12
HORIZONTAL_UNITS: METERS
HORIZONTAL_RESOLUTION: 1.00000
SECONDARY_HORIZONTAL_DATUM: NAD27
XY_ORIGIN: 382185.08200 5032946.77100
SECONDARY_XY_ORIGIN: 382247.79800 5032736.40800
NATION: US
STATE: MT
NW_QUAD_CORNER_XY: 382680.39700 5032647.27100
NE_QUAD_CORNER_XY: 387568.70000 5032557.97000
SE_QUAD_CORNERY_XY: 387444.62200 5025614.54400
SW_QUAD_CORNER_XY: 382550.92300 5025703.84700
SECONDARY_NW_QUAD_XY: 382676.90100 5032429.74400
SECONDARY_NE_QUAD_XY: 387565.34900 5032340.44100
SECONDARY_SE_QUAD_XY: 387441.27300 5025397.06500
SECONDARY_SW_QUAD_XY: 382547.42800 5025486.37100
RMSE_XY: 2.50000
IMAGE_SOURCE: BLACK AND WHITE FILM
SOURCE_IMAGE_ID: NAPP 9485 230
SOURCE_IMAGE_DATE: 1995 8 20
SOURCE_DEM_DATE: 1997 11 14
AGENCY: WESTERN MAPPING CENTER (WMC)
PRODUCER: NIES MAPPING GROUP
PRODUCTION_SYSTEM: INTERGRAPH- ISPM,ISIR
COMPRESSION: UNDEFINED
STANDARD_VERSION: 1996 12
METADATA_DATE: 1998 2 10
DATA_FILE_SIZE: 43431444
BYTE_COUNT: 5684
