FILENAME: O4511237.SES.790401.tif
QUADRANGLE_NAME: BEAVERHEAD ROCK
QUADRANT: SE
WEST_LONGITUDE: -112 26 15.00000
EAST_LONGITUDE: -112 22 30.00000
NORTH_LATITUDE: 45 26 15.00000
SOUTH_LATITUDE: 45 22 30.00000
PRODUCTION_DATE: 1997 11 14
RASTER_ORDER: LEFT_RIGHT/TOP_BOTTOM
BAND_ORGANIZATION: SINGLE FILE
BAND_CONTENT: BLACK&WHITE
BAND_CONTENT: UNDEFINED
BAND_CONTENT: UNDEFINED
BITS_PER_PIXEL: 8
SAMPLES_AND_LINES: 5678 7636
HORIZONTAL_DATUM: NAD83
HORIZONTAL_COORDINATE_SYSTEM: UTM
COORDINATE_ZONE: 12
HORIZONTAL_UNITS: METERS
HORIZONTAL_RESOLUTION: 1.00000
SECONDARY_HORIZONTAL_DATUM: NAD27
XY_ORIGIN: 387079.12500 5032857.47000
SECONDARY_XY_ORIGIN: 387141.66700 5032647.14600
NATION: US
STATE: MT
NW_QUAD_CORNER_XY: 387568.70000 5032557.97000
NE_QUAD_CORNER_XY: 392457.00400 5032472.47100
SE_QUAD_CORNERY_XY: 392338.32300 5025529.04200
SW_QUAD_CORNER_XY: 387444.62200 5025614.54400
SECONDARY_NW_QUAD_XY: 387565.34900 5032340.44100
SECONDARY_NE_QUAD_XY: 392453.79900 5032254.93900
SECONDARY_SE_QUAD_XY: 392335.11900 5025311.56100
SECONDARY_SW_QUAD_XY: 387441.27300 5025397.06500
RMSE_XY: 2.00000
IMAGE_SOURCE: BLACK AND WHITE FILM
SOURCE_IMAGE_ID: NAPP 8382 256
SOURCE_IMAGE_DATE: 1995 8 1
SOURCE_DEM_DATE: 1997 11 14
AGENCY: WESTERN MAPPING CENTER (WMC)
PRODUCER: NIES MAPPING GROUP
PRODUCTION_SYSTEM: INTERGRAPH- ISPM,ISIR
COMPRESSION: UNDEFINED
STANDARD_VERSION: 1996 12
METADATA_DATE: 1998 2 10
DATA_FILE_SIZE: 43362886
BYTE_COUNT: 5678
