FILENAME: O4511238.SES.789239.tif
QUADRANGLE_NAME: BEAVERHEAD ROCK NE
QUADRANT: SE
WEST_LONGITUDE: -112 18 45.00000
EAST_LONGITUDE: -112 15 0.00000
NORTH_LATITUDE: 45 26 15.00000
SOUTH_LATITUDE: 45 22 30.00000
PRODUCTION_DATE: 1997 11 14
RASTER_ORDER: LEFT_RIGHT/TOP_BOTTOM
BAND_ORGANIZATION: SINGLE FILE
BAND_CONTENT: BLACK&WHITE
BAND_CONTENT: UNDEFINED
BAND_CONTENT: UNDEFINED
BITS_PER_PIXEL: 8
SAMPLES_AND_LINES: 5667 7629
HORIZONTAL_DATUM: NAD83
HORIZONTAL_COORDINATE_SYSTEM: UTM
COORDINATE_ZONE: 12
HORIZONTAL_UNITS: METERS
HORIZONTAL_RESOLUTION: 1.00000
SECONDARY_HORIZONTAL_DATUM: NAD27
XY_ORIGIN: 396867.21600 5032690.27300
SECONDARY_XY_ORIGIN: 396929.40700 5032480.01400
NATION: US
STATE: MT
NW_QUAD_CORNER_XY: 397345.31000 5032390.77300
NE_QUAD_CORNER_XY: 402233.61700 5032312.87600
SE_QUAD_CORNERY_XY: 402125.72900 5025369.44300
SW_QUAD_CORNER_XY: 397232.02500 5025447.34200
SECONDARY_NW_QUAD_XY: 397342.25100 5032173.23900
SECONDARY_NE_QUAD_XY: 402230.70400 5032095.34000
SECONDARY_SE_QUAD_XY: 402122.81700 5025151.95700
SECONDARY_SW_QUAD_XY: 397228.96700 5025229.85800
RMSE_XY: 2.00000
IMAGE_SOURCE: BLACK AND WHITE FILM
SOURCE_IMAGE_ID: NAPP 9484 103
SOURCE_IMAGE_DATE: 1995 8 14
SOURCE_DEM_DATE: 1997 11 14
AGENCY: WESTERN MAPPING CENTER (WMC)
PRODUCER: NIES MAPPING GROUP
PRODUCTION_SYSTEM: INTERGRAPH- ISPM,ISIR
COMPRESSION: UNDEFINED
STANDARD_VERSION: 1996 12
METADATA_DATE: 1998 2 10
DATA_FILE_SIZE: 43239210
BYTE_COUNT: 5667
