FILENAME: O4511239.NWS.792737.tif
QUADRANGLE_NAME: SHERIDAN
QUADRANT: NW
WEST_LONGITUDE: -112 15 0.00000
EAST_LONGITUDE: -112 11 15.00000
NORTH_LATITUDE: 45 30 0.00000
SOUTH_LATITUDE: 45 26 15.00000
PRODUCTION_DATE: 1997 11 17
RASTER_ORDER: LEFT_RIGHT/TOP_BOTTOM
BAND_ORGANIZATION: SINGLE FILE
BAND_CONTENT: BLACK&WHITE
BAND_CONTENT: UNDEFINED
BAND_CONTENT: UNDEFINED
BITS_PER_PIXEL: 8
SAMPLES_AND_LINES: 5656 7625
HORIZONTAL_DATUM: NAD83
HORIZONTAL_COORDINATE_SYSTEM: UTM
COORDINATE_ZONE: 12
HORIZONTAL_UNITS: METERS
HORIZONTAL_RESOLUTION: 1.00000
SECONDARY_HORIZONTAL_DATUM: NAD27
XY_ORIGIN: 401869.20100 5039555.88200
SECONDARY_XY_ORIGIN: 401931.16700 5039345.51100
NATION: US
STATE: MT
NW_QUAD_CORNER_XY: 402341.62300 5039256.38200
NE_QUAD_CORNER_XY: 407224.53000 5039182.28900
SE_QUAD_CORNERY_XY: 407121.92700 5032238.78100
SW_QUAD_CORNER_XY: 402233.61700 5032312.87600
SECONDARY_NW_QUAD_XY: 402338.70800 5039038.79600
SECONDARY_NE_QUAD_XY: 407221.76100 5038964.70100
SECONDARY_SE_QUAD_XY: 407119.15900 5032021.24200
SECONDARY_SW_QUAD_XY: 402230.70400 5032095.34000
RMSE_XY: 2.30000
IMAGE_SOURCE: BLACK AND WHITE FILM
SOURCE_IMAGE_ID: NAPP 9484 164
SOURCE_IMAGE_DATE: 1995 8 14
SOURCE_DEM_DATE: 1997 11 17
AGENCY: WESTERN MAPPING CENTER (WMC)
PRODUCER: NIES MAPPING GROUP
PRODUCTION_SYSTEM: INTERGRAPH- ISPM,ISIR
COMPRESSION: UNDEFINED
STANDARD_VERSION: 1996 12
METADATA_DATE: 1998 2 5
DATA_FILE_SIZE: 43132656
BYTE_COUNT: 5656
