FILENAME: O4511240.NWS.792741.tif
QUADRANGLE_NAME: COPPER MOUNTAIN
QUADRANT: NW
WEST_LONGITUDE: -112 7 30.00000
EAST_LONGITUDE: -112 3 45.00000
NORTH_LATITUDE: 45 30 0.00000
SOUTH_LATITUDE: 45 26 15.00000
PRODUCTION_DATE: 1997 11 21
RASTER_ORDER: LEFT_RIGHT/TOP_BOTTOM
BAND_ORGANIZATION: SINGLE FILE
BAND_CONTENT: BLACK&WHITE
BAND_CONTENT: UNDEFINED
BAND_CONTENT: UNDEFINED
BITS_PER_PIXEL: 8
SAMPLES_AND_LINES: 5645 7617
HORIZONTAL_DATUM: NAD83
HORIZONTAL_COORDINATE_SYSTEM: UTM
COORDINATE_ZONE: 12
HORIZONTAL_UNITS: METERS
HORIZONTAL_RESOLUTION: 1.00000
SECONDARY_HORIZONTAL_DATUM: NAD27
XY_ORIGIN: 411646.26300 5039411.49600
SECONDARY_XY_ORIGIN: 411708.10500 5039201.24600
NATION: US
STATE: MT
NW_QUAD_CORNER_XY: 412107.43900 5039111.99600
NE_QUAD_CORNER_XY: 416990.35000 5039045.50400
SE_QUAD_CORNERY_XY: 416898.55000 5032101.99200
SW_QUAD_CORNER_XY: 412010.23700 5032168.48600
SECONDARY_NW_QUAD_XY: 412104.81600 5038894.40600
SECONDARY_NE_QUAD_XY: 416987.87300 5038827.91200
SECONDARY_SE_QUAD_XY: 416896.07300 5031884.44900
SECONDARY_SW_QUAD_XY: 412007.61500 5031950.94500
RMSE_XY: 1.40000
IMAGE_SOURCE: BLACK AND WHITE FILM
SOURCE_IMAGE_ID: NAPP 9484 246
SOURCE_IMAGE_DATE: 1995 8 14
SOURCE_DEM_DATE: 1997 11 21
AGENCY: WESTERN MAPPING CENTER (WMC)
PRODUCER: NIES MAPPING GROUP
PRODUCTION_SYSTEM: INTERGRAPH- ISPM,ISIR
COMPRESSION: UNDEFINED
STANDARD_VERSION: 1996 12
METADATA_DATE: 1998 2 5
DATA_FILE_SIZE: 43003610
BYTE_COUNT: 5645
