FILENAME: O4511241.NWS.1076729.tif
QUADRANGLE_NAME: ERMONT
QUADRANT: NW
WEST_LONGITUDE: -113 0 0.00000
EAST_LONGITUDE: -112 56 15.00000
NORTH_LATITUDE: 45 22 30.00000
SOUTH_LATITUDE: 45 18 45.00000
PRODUCTION_DATE: 2000 5 18
RASTER_ORDER: LEFT_RIGHT/TOP_BOTTOM
BAND_ORGANIZATION: SINGLE FILE
BAND_CONTENT: BLACK&WHITE
BAND_CONTENT: UNDEFINED
BAND_CONTENT: UNDEFINED
BITS_PER_PIXEL: 8
SAMPLES_AND_LINES: 5738 7673
HORIZONTAL_DATUM: NAD83
HORIZONTAL_COORDINATE_SYSTEM: UTM
COORDINATE_ZONE: 12
HORIZONTAL_UNITS: METERS
HORIZONTAL_RESOLUTION: 1.00000
SECONDARY_HORIZONTAL_DATUM: NAD27
XY_ORIGIN: 342859.00000 5026856.00000
SECONDARY_XY_ORIGIN: 342922.71600 5026645.30200
NATION: US
NATION: "SCIENCE
STATE: MT
NW_QUAD_CORNER_XY: 343401.39400 5026555.15900
NE_QUAD_CORNER_XY: 348295.07800 5026435.43500
SE_QUAD_CORNERY_XY: 348127.99600 5019492.09900
SW_QUAD_CORNER_XY: 343228.91800 5019611.82700
SECONDARY_NW_QUAD_XY: 343396.73300 5026337.70800
SECONDARY_NE_QUAD_XY: 348290.56300 5026217.98000
SECONDARY_SE_QUAD_XY: 348123.48200 5019274.69500
SECONDARY_SW_QUAD_XY: 343224.25900 5019394.42700
RMSE_XY: 1.60000
IMAGE_SOURCE: BLACK AND WHITE FILM
SOURCE_IMAGE_ID: NAPP 9485 133
SOURCE_IMAGE_DATE: 1995 08 20
SOURCE_IMAGE_ID: NAPP 9485 134
SOURCE_IMAGE_DATE: 1995 08 20
SOURCE_IMAGE_ID: NAPP 9483 164
SOURCE_IMAGE_DATE: 1995 08 14
SOURCE_DEM_DATE: 2000 01 01
AGENCY: WESTERN MAPPING CENTER (WMC)
PRODUCER: UNDEFINED
PRODUCTION_SYSTEM: GIS/MAGIC
COMPRESSION: UNDEFINED
STANDARD_VERSION: 1996 12
METADATA_DATE: 2000 05 25
DATA_FILE_SIZE: 44033412
BYTE_COUNT: 5738
