FILENAME: O4511242.SWS.811516.tif
QUADRANGLE_NAME: ARGENTA
QUADRANT: SW
WEST_LONGITUDE: -112 52 30.00000
EAST_LONGITUDE: -112 48 45.00000
NORTH_LATITUDE: 45 18 45.00000
SOUTH_LATITUDE: 45 15 0.00000
PRODUCTION_DATE: 1997 11 25
RASTER_ORDER: LEFT_RIGHT/TOP_BOTTOM
BAND_ORGANIZATION: SINGLE FILE
BAND_CONTENT: BLACK&WHITE
BAND_CONTENT: UNDEFINED
BAND_CONTENT: UNDEFINED
BITS_PER_PIXEL: 8
SAMPLES_AND_LINES: 5729 7662
HORIZONTAL_DATUM: NAD83
HORIZONTAL_COORDINATE_SYSTEM: UTM
COORDINATE_ZONE: 12
HORIZONTAL_UNITS: METERS
HORIZONTAL_RESOLUTION: 1.00000
SECONDARY_HORIZONTAL_DATUM: NAD27
XY_ORIGIN: 352497.93600 5019675.67600
SECONDARY_XY_ORIGIN: 352561.60500 5019465.16000
NATION: US
STATE: MT
NW_QUAD_CORNER_XY: 353027.07600 5019376.17600
NE_QUAD_CORNER_XY: 357926.15800 5019264.05500
SE_QUAD_CORNERY_XY: 357770.03300 5012320.78300
SW_QUAD_CORNER_XY: 352865.56400 5012432.90600
SECONDARY_NW_QUAD_XY: 353022.70800 5019158.76900
SECONDARY_NE_QUAD_XY: 357921.93500 5019046.64500
SECONDARY_SE_QUAD_XY: 357765.81200 5012103.42400
SECONDARY_SW_QUAD_XY: 352861.19700 5012215.55100
RMSE_XY: 0.80000
IMAGE_SOURCE: BLACK AND WHITE FILM
SOURCE_IMAGE_ID: NAPP 9485 194
SOURCE_IMAGE_DATE: 1995 8 20
SOURCE_DEM_DATE: 1997 11 25
AGENCY: WESTERN MAPPING CENTER (WMC)
PRODUCER: NIES MAPPING GROUP
PRODUCTION_SYSTEM: INTERGRAPH-ISIR
COMPRESSION: UNDEFINED
STANDARD_VERSION: 1996 12
METADATA_DATE: 1998 3 19
DATA_FILE_SIZE: 43901327
BYTE_COUNT: 5729
