FILENAME: O4511243.SWS.811520.tif
QUADRANGLE_NAME: BOND
QUADRANT: SW
WEST_LONGITUDE: -112 45 0.00000
EAST_LONGITUDE: -112 41 15.00000
NORTH_LATITUDE: 45 18 45.00000
SOUTH_LATITUDE: 45 15 0.00000
PRODUCTION_DATE: 1997 11 25
RASTER_ORDER: LEFT_RIGHT/TOP_BOTTOM
BAND_ORGANIZATION: SINGLE FILE
BAND_CONTENT: BLACK&WHITE
BAND_CONTENT: UNDEFINED
BAND_CONTENT: UNDEFINED
BITS_PER_PIXEL: 8
SAMPLES_AND_LINES: 5718 7655
HORIZONTAL_DATUM: NAD83
HORIZONTAL_COORDINATE_SYSTEM: UTM
COORDINATE_ZONE: 12
HORIZONTAL_UNITS: METERS
HORIZONTAL_RESOLUTION: 1.00000
SECONDARY_HORIZONTAL_DATUM: NAD27
XY_ORIGIN: 362307.32300 5019455.23800
SECONDARY_XY_ORIGIN: 362370.84300 5019244.78500
NATION: US
STATE: MT
NW_QUAD_CORNER_XY: 362825.24100 5019155.73800
NE_QUAD_CORNER_XY: 367724.32600 5019051.22300
SE_QUAD_CORNERY_XY: 367578.97500 5012107.94700
SW_QUAD_CORNER_XY: 362674.50300 5012212.46400
SECONDARY_NW_QUAD_XY: 362821.16400 5018938.32400
SECONDARY_NE_QUAD_XY: 367720.39400 5018833.80600
SECONDARY_SE_QUAD_XY: 367575.04400 5011890.58200
SECONDARY_SW_QUAD_XY: 362670.42700 5011995.10200
RMSE_XY: 2.00000
IMAGE_SOURCE: BLACK AND WHITE FILM
SOURCE_IMAGE_ID: NAPP 9483 64
SOURCE_IMAGE_DATE: 1995 8 14
SOURCE_DEM_DATE: 1997 11 25
AGENCY: WESTERN MAPPING CENTER (WMC)
PRODUCER: NIES MAPPING GROUP
PRODUCTION_SYSTEM: INTERGRAPH-ISIR
COMPRESSION: UNDEFINED
STANDARD_VERSION: 1996 12
METADATA_DATE: 1998 3 19
DATA_FILE_SIZE: 43777008
BYTE_COUNT: 5718
