FILENAME: O4511244.NWS.811522.tif
QUADRANGLE_NAME: GLEN SE
QUADRANT: NW
WEST_LONGITUDE: -112 37 30.00000
EAST_LONGITUDE: -112 33 45.00000
NORTH_LATITUDE: 45 22 30.00000
SOUTH_LATITUDE: 45 18 45.00000
PRODUCTION_DATE: 1997 11 25
RASTER_ORDER: LEFT_RIGHT/TOP_BOTTOM
BAND_ORGANIZATION: SINGLE FILE
BAND_CONTENT: BLACK&WHITE
BAND_CONTENT: UNDEFINED
BAND_CONTENT: UNDEFINED
BITS_PER_PIXEL: 8
SAMPLES_AND_LINES: 5701 7648
HORIZONTAL_DATUM: NAD83
HORIZONTAL_COORDINATE_SYSTEM: UTM
COORDINATE_ZONE: 12
HORIZONTAL_UNITS: METERS
HORIZONTAL_RESOLUTION: 1.00000
SECONDARY_HORIZONTAL_DATUM: NAD27
XY_ORIGIN: 372256.87500 5026193.35900
SECONDARY_XY_ORIGIN: 372320.02100 5025982.95300
NATION: US
STATE: MT
NW_QUAD_CORNER_XY: 372763.52900 5025893.85900
NE_QUAD_CORNER_XY: 377657.22500 5025796.95200
SE_QUAD_CORNERY_XY: 377522.50000 5018853.60200
SW_QUAD_CORNER_XY: 372623.41200 5018950.51100
SECONDARY_NW_QUAD_XY: 372759.74300 5025676.38900
SECONDARY_NE_QUAD_XY: 377653.58400 5025579.47800
SECONDARY_SE_QUAD_XY: 377518.86000 5018636.17900
SECONDARY_SW_QUAD_XY: 372619.62600 5018733.09100
RMSE_XY: 1.90000
IMAGE_SOURCE: BLACK AND WHITE FILM
SOURCE_IMAGE_ID: NAPP 8382 100
SOURCE_IMAGE_DATE: 1995 8 1
SOURCE_DEM_DATE: 1997 11 25
AGENCY: WESTERN MAPPING CENTER (WMC)
PRODUCER: NIES MAPPING GROUP
PRODUCTION_SYSTEM: INTERGRAPH-ISIR
COMPRESSION: UNDEFINED
STANDARD_VERSION: 1996 12
METADATA_DATE: 1998 3 19
DATA_FILE_SIZE: 43606949
BYTE_COUNT: 5701
