FILENAME: O4511246.SES.789247.tif
QUADRANGLE_NAME: BEAVERHEAD ROCK SE
QUADRANT: SE
WEST_LONGITUDE: -112 18 45.00000
EAST_LONGITUDE: -112 15 0.00000
NORTH_LATITUDE: 45 18 45.00000
SOUTH_LATITUDE: 45 15 0.00000
PRODUCTION_DATE: 1997 11 17
RASTER_ORDER: LEFT_RIGHT/TOP_BOTTOM
BAND_ORGANIZATION: SINGLE FILE
BAND_CONTENT: BLACK&WHITE
BAND_CONTENT: UNDEFINED
BAND_CONTENT: UNDEFINED
BITS_PER_PIXEL: 8
SAMPLES_AND_LINES: 5678 7629
HORIZONTAL_DATUM: NAD83
HORIZONTAL_COORDINATE_SYSTEM: UTM
COORDINATE_ZONE: 12
HORIZONTAL_UNITS: METERS
HORIZONTAL_RESOLUTION: 1.00000
SECONDARY_HORIZONTAL_DATUM: NAD27
XY_ORIGIN: 396640.87600 5018803.48400
SECONDARY_XY_ORIGIN: 396703.21400 5018593.53300
NATION: US
STATE: MT
NW_QUAD_CORNER_XY: 397118.86400 5018503.98400
NE_QUAD_CORNER_XY: 402017.95800 5018426.08300
SE_QUAD_CORNERY_XY: 401910.30500 5011482.79600
SW_QUAD_CORNER_XY: 397005.82600 5011560.69800
SECONDARY_NW_QUAD_XY: 397115.80700 5018286.55100
SECONDARY_NE_QUAD_XY: 402015.04700 5018208.64800
SECONDARY_SE_QUAD_XY: 401907.39400 5011265.41200
SECONDARY_SW_QUAD_XY: 397002.77000 5011343.31600
RMSE_XY: 3.80000
IMAGE_SOURCE: BLACK AND WHITE FILM
SOURCE_IMAGE_ID: NAPP 9484 99
SOURCE_IMAGE_DATE: 1995 8 14
SOURCE_DEM_DATE: 1997 11 17
AGENCY: WESTERN MAPPING CENTER (WMC)
PRODUCER: NIES MAPPING GROUP
PRODUCTION_SYSTEM: INTERGRAPH- ISPM,ISIR
COMPRESSION: UNDEFINED
STANDARD_VERSION: 1996 12
METADATA_DATE: 1998 2 10
DATA_FILE_SIZE: 43323140
BYTE_COUNT: 5678
