FILENAME: O4511246.NES.789245.tif
QUADRANGLE_NAME: BEAVERHEAD ROCK SE
QUADRANT: NE
WEST_LONGITUDE: -112 18 45.00000
EAST_LONGITUDE: -112 15 0.00000
NORTH_LATITUDE: 45 22 30.00000
SOUTH_LATITUDE: 45 18 45.00000
PRODUCTION_DATE: 1997 11 17
RASTER_ORDER: LEFT_RIGHT/TOP_BOTTOM
BAND_ORGANIZATION: SINGLE FILE
BAND_CONTENT: BLACK&WHITE
BAND_CONTENT: UNDEFINED
BAND_CONTENT: UNDEFINED
BITS_PER_PIXEL: 8
SAMPLES_AND_LINES: 5672 7629
HORIZONTAL_DATUM: NAD83
HORIZONTAL_COORDINATE_SYSTEM: UTM
COORDINATE_ZONE: 12
HORIZONTAL_UNITS: METERS
HORIZONTAL_RESOLUTION: 1.00000
SECONDARY_HORIZONTAL_DATUM: NAD27
XY_ORIGIN: 396753.98500 5025746.84200
SECONDARY_XY_ORIGIN: 396816.25000 5025536.73600
NATION: US
STATE: MT
NW_QUAD_CORNER_XY: 397232.02500 5025447.34200
NE_QUAD_CORNER_XY: 402125.72900 5025369.44300
SE_QUAD_CORNERY_XY: 402017.95800 5018426.08300
SW_QUAD_CORNER_XY: 397118.86400 5018503.98400
SECONDARY_NW_QUAD_XY: 397228.96700 5025229.85800
SECONDARY_NE_QUAD_XY: 402122.81700 5025151.95700
SECONDARY_SE_QUAD_XY: 402015.04700 5018208.64800
SECONDARY_SW_QUAD_XY: 397115.80700 5018286.55100
RMSE_XY: 4.30000
IMAGE_SOURCE: BLACK AND WHITE FILM
SOURCE_IMAGE_ID: NAPP 9484 101
SOURCE_IMAGE_DATE: 1995 8 14
SOURCE_DEM_DATE: 1997 11 17
AGENCY: WESTERN MAPPING CENTER (WMC)
PRODUCER: NIES MAPPING GROUP
PRODUCTION_SYSTEM: INTERGRAPH- ISPM,ISIR
COMPRESSION: UNDEFINED
STANDARD_VERSION: 1996 12
METADATA_DATE: 1998 2 10
DATA_FILE_SIZE: 43277360
BYTE_COUNT: 5672
