FILENAME: O4511247.SWS.789851.tif
QUADRANGLE_NAME: LAURIN CANYON
QUADRANT: SW
WEST_LONGITUDE: -112 15 0.00000
EAST_LONGITUDE: -112 11 15.00000
NORTH_LATITUDE: 45 18 45.00000
SOUTH_LATITUDE: 45 15 0.00000
PRODUCTION_DATE: 1997 11 18
RASTER_ORDER: LEFT_RIGHT/TOP_BOTTOM
BAND_ORGANIZATION: SINGLE FILE
BAND_CONTENT: BLACK&WHITE
BAND_CONTENT: UNDEFINED
BAND_CONTENT: UNDEFINED
BITS_PER_PIXEL: 8
SAMPLES_AND_LINES: 5672 7625
HORIZONTAL_DATUM: NAD83
HORIZONTAL_COORDINATE_SYSTEM: UTM
COORDINATE_ZONE: 12
HORIZONTAL_UNITS: METERS
HORIZONTAL_RESOLUTION: 1.00000
SECONDARY_HORIZONTAL_DATUM: NAD27
XY_ORIGIN: 401545.74300 5018725.58300
SECONDARY_XY_ORIGIN: 401607.86100 5018515.65400
NATION: US
STATE: MT
NW_QUAD_CORNER_XY: 402017.95800 5018426.08300
NE_QUAD_CORNER_XY: 406917.05400 5018351.98400
SE_QUAD_CORNERY_XY: 406814.78500 5011408.69500
SW_QUAD_CORNER_XY: 401910.30500 5011482.79600
SECONDARY_NW_QUAD_XY: 402015.04700 5018208.64800
SECONDARY_NE_QUAD_XY: 406914.28700 5018134.54600
SECONDARY_SE_QUAD_XY: 406812.01900 5011191.30900
SECONDARY_SW_QUAD_XY: 401907.39400 5011265.41200
RMSE_XY: 2.40000
IMAGE_SOURCE: BLACK AND WHITE FILM
SOURCE_IMAGE_ID: NAPP 9484 170
SOURCE_IMAGE_DATE: 1995 8 14
SOURCE_DEM_DATE: 1997 11 18
AGENCY: WESTERN MAPPING CENTER (WMC)
PRODUCER: NIES MAPPING GROUP
PRODUCTION_SYSTEM: INTERGRAPH- ISPM,ISIR
COMPRESSION: UNDEFINED
STANDARD_VERSION: 1996 12
METADATA_DATE: 1998 2 5
DATA_FILE_SIZE: 43254672
BYTE_COUNT: 5672
