FILENAME: O4511248.SWS.789268.tif
QUADRANGLE_NAME: ALDER
QUADRANT: SW
WEST_LONGITUDE: -112 7 30.00000
EAST_LONGITUDE: -112 3 45.00000
NORTH_LATITUDE: 45 18 45.00000
SOUTH_LATITUDE: 45 15 0.00000
PRODUCTION_DATE: 1997 11 20
RASTER_ORDER: LEFT_RIGHT/TOP_BOTTOM
BAND_ORGANIZATION: SINGLE FILE
BAND_CONTENT: BLACK&WHITE
BAND_CONTENT: UNDEFINED
BAND_CONTENT: UNDEFINED
BITS_PER_PIXEL: 8
SAMPLES_AND_LINES: 5660 7617
HORIZONTAL_DATUM: NAD83
HORIZONTAL_COORDINATE_SYSTEM: UTM
COORDINATE_ZONE: 12
HORIZONTAL_UNITS: METERS
HORIZONTAL_RESOLUTION: 1.00000
SECONDARY_HORIZONTAL_DATUM: NAD27
XY_ORIGIN: 411355.25100 5018581.18500
SECONDARY_XY_ORIGIN: 411417.14000 5018371.27200
NATION: US
STATE: MT
NW_QUAD_CORNER_XY: 411816.15000 5018281.68500
NE_QUAD_CORNER_XY: 416715.24700 5018215.18800
SE_QUAD_CORNERY_XY: 416623.74600 5011271.89700
SW_QUAD_CORNER_XY: 411719.26500 5011338.39500
SECONDARY_NW_QUAD_XY: 411813.52900 5018064.24600
SECONDARY_NE_QUAD_XY: 416712.77200 5017997.74600
SECONDARY_SE_QUAD_XY: 416621.27200 5011054.50700
SECONDARY_SW_QUAD_XY: 411716.64500 5011121.00700
RMSE_XY: 3.50000
IMAGE_SOURCE: BLACK AND WHITE FILM
SOURCE_IMAGE_ID: NAPP 9484 252
SOURCE_IMAGE_DATE: 1995 8 14
SOURCE_DEM_DATE: 1997 11 20
AGENCY: WESTERN MAPPING CENTER (WMC)
PRODUCER: NIES MAPPING GROUP
PRODUCTION_SYSTEM: INTERGRAPH- ISPM,ISIR
COMPRESSION: UNDEFINED
STANDARD_VERSION: 1996 12
METADATA_DATE: 1998 2 20
DATA_FILE_SIZE: 43117880
BYTE_COUNT: 5660
