FILENAME: O4511248.SES.789267.tif
QUADRANGLE_NAME: ALDER
QUADRANT: SE
WEST_LONGITUDE: -112 3 45.00000
EAST_LONGITUDE: -112 0 0.00000
NORTH_LATITUDE: 45 18 45.00000
SOUTH_LATITUDE: 45 15 0.00000
PRODUCTION_DATE: 1997 11 20
RASTER_ORDER: LEFT_RIGHT/TOP_BOTTOM
BAND_ORGANIZATION: SINGLE FILE
BAND_CONTENT: BLACK&WHITE
BAND_CONTENT: UNDEFINED
BAND_CONTENT: UNDEFINED
BITS_PER_PIXEL: 8
SAMPLES_AND_LINES: 5655 7614
HORIZONTAL_DATUM: NAD83
HORIZONTAL_COORDINATE_SYSTEM: UTM
COORDINATE_ZONE: 12
HORIZONTAL_UNITS: METERS
HORIZONTAL_RESOLUTION: 1.00000
SECONDARY_HORIZONTAL_DATUM: NAD27
XY_ORIGIN: 416260.00600 5018514.68800
SECONDARY_XY_ORIGIN: 416321.78500 5018304.78200
NATION: US
STATE: MT
NW_QUAD_CORNER_XY: 416715.24700 5018215.18800
NE_QUAD_CORNER_XY: 421614.34600 5018152.49100
SE_QUAD_CORNERY_XY: 421528.22800 5011209.19900
SW_QUAD_CORNER_XY: 416623.74600 5011271.89700
SECONDARY_NW_QUAD_XY: 416712.77200 5017997.74600
SECONDARY_NE_QUAD_XY: 421612.01600 5017935.04700
SECONDARY_SE_QUAD_XY: 421525.89900 5010991.80700
SECONDARY_SW_QUAD_XY: 416621.27200 5011054.50700
RMSE_XY: 3.20000
IMAGE_SOURCE: BLACK AND WHITE FILM
SOURCE_IMAGE_ID: NAPP 9485 262
SOURCE_IMAGE_DATE: 1995 8 20
SOURCE_DEM_DATE: 1997 11 20
AGENCY: WESTERN MAPPING CENTER (WMC)
PRODUCER: NIES MAPPING GROUP
PRODUCTION_SYSTEM: INTERGRAPH- ISPM,ISIR
COMPRESSION: UNDEFINED
STANDARD_VERSION: 1996 12
METADATA_DATE: 1998 2 20
DATA_FILE_SIZE: 43062825
BYTE_COUNT: 5655
