FILENAME: O4511249.NES.1076692.tif
QUADRANGLE_NAME: BANNACK
QUADRANT: NE
WEST_LONGITUDE: -112 56 15.00000
EAST_LONGITUDE: -112 52 30.00000
NORTH_LATITUDE: 45 15 0.00000
SOUTH_LATITUDE: 45 11 15.00000
PRODUCTION_DATE: 2000 5 18
RASTER_ORDER: LEFT_RIGHT/TOP_BOTTOM
BAND_ORGANIZATION: SINGLE FILE
BAND_CONTENT: BLACK&WHITE
BAND_CONTENT: UNDEFINED
BAND_CONTENT: UNDEFINED
BITS_PER_PIXEL: 8
SAMPLES_AND_LINES: 5742 7669
HORIZONTAL_DATUM: NAD83
HORIZONTAL_COORDINATE_SYSTEM: UTM
COORDINATE_ZONE: 12
HORIZONTAL_UNITS: METERS
HORIZONTAL_RESOLUTION: 1.00000
SECONDARY_HORIZONTAL_DATUM: NAD27
XY_ORIGIN: 347425.00000 5012849.00000
SECONDARY_XY_ORIGIN: 347488.84700 5012638.57300
NATION: US
NATION: "SCIENCE
STATE: MT
NW_QUAD_CORNER_XY: 347961.09600 5012548.83200
NE_QUAD_CORNER_XY: 352865.56400 5012432.90500
SE_QUAD_CORNERY_XY: 352704.22800 5005489.70400
SW_QUAD_CORNER_XY: 347794.37900 5005605.63200
SECONDARY_NW_QUAD_XY: 347956.58400 5012331.48000
SECONDARY_NE_QUAD_XY: 352861.19700 5012215.55000
SECONDARY_SE_QUAD_XY: 352699.86200 5005272.40100
SECONDARY_SW_QUAD_XY: 347789.86700 5005388.33200
RMSE_XY: 1.60000
IMAGE_SOURCE: BLACK AND WHITE FILM
SOURCE_IMAGE_ID: NAPP 9483 168
SOURCE_IMAGE_DATE: 1995 08 14
SOURCE_IMAGE_ID: NAPP 9485 137
SOURCE_IMAGE_DATE: 1995 08 20
SOURCE_DEM_DATE: 1950 00 00
AGENCY: WESTERN MAPPING CENTER (WMC)
PRODUCER: UNDEFINED
PRODUCTION_SYSTEM: GIS/MAGIC
COMPRESSION: UNDEFINED
STANDARD_VERSION: 1996 12
METADATA_DATE: 2000 05 25
DATA_FILE_SIZE: 44041140
BYTE_COUNT: 5742
