FILENAME: O4511250.NWS.811538.tif
QUADRANGLE_NAME: BURNS MOUNTAIN
QUADRANT: NW
WEST_LONGITUDE: -112 52 30.00000
EAST_LONGITUDE: -112 48 45.00000
NORTH_LATITUDE: 45 15 0.00000
SOUTH_LATITUDE: 45 11 15.00000
PRODUCTION_DATE: 1997 11 25
RASTER_ORDER: LEFT_RIGHT/TOP_BOTTOM
BAND_ORGANIZATION: SINGLE FILE
BAND_CONTENT: BLACK&WHITE
BAND_CONTENT: UNDEFINED
BAND_CONTENT: UNDEFINED
BITS_PER_PIXEL: 8
SAMPLES_AND_LINES: 5734 7662
HORIZONTAL_DATUM: NAD83
HORIZONTAL_COORDINATE_SYSTEM: UTM
COORDINATE_ZONE: 12
HORIZONTAL_UNITS: METERS
HORIZONTAL_RESOLUTION: 1.00000
SECONDARY_HORIZONTAL_DATUM: NAD27
XY_ORIGIN: 352336.64900 5012732.40600
SECONDARY_XY_ORIGIN: 352400.41300 5012522.02800
NATION: US
STATE: MT
NW_QUAD_CORNER_XY: 352865.56400 5012432.90600
NE_QUAD_CORNER_XY: 357770.03300 5012320.78300
SE_QUAD_CORNERY_XY: 357614.07900 5005377.58000
SW_QUAD_CORNER_XY: 352704.22800 5005489.70400
SECONDARY_NW_QUAD_XY: 352861.19700 5012215.55100
SECONDARY_NE_QUAD_XY: 357765.81200 5012103.42400
SECONDARY_SE_QUAD_XY: 357609.85800 5005160.27400
SECONDARY_SW_QUAD_XY: 352699.86200 5005272.40100
RMSE_XY: 2.00000
IMAGE_SOURCE: BLACK AND WHITE FILM
SOURCE_IMAGE_ID: NAPP 9485 192
SOURCE_IMAGE_DATE: 1995 8 20
SOURCE_DEM_DATE: 1997 11 25
AGENCY: WESTERN MAPPING CENTER (WMC)
PRODUCER: NIES MAPPING GROUP
PRODUCTION_SYSTEM: INTERGRAPH-ISIR
COMPRESSION: UNDEFINED
STANDARD_VERSION: 1996 12
METADATA_DATE: 1998 3 19
DATA_FILE_SIZE: 43939642
BYTE_COUNT: 5734
