FILENAME: O4511251.SWS.811544.tif
QUADRANGLE_NAME: DILLON WEST
QUADRANT: SW
WEST_LONGITUDE: -112 45 0.00000
EAST_LONGITUDE: -112 41 15.00000
NORTH_LATITUDE: 45 11 15.00000
SOUTH_LATITUDE: 45 7 30.00000
PRODUCTION_DATE: 1997 11 25
RASTER_ORDER: LEFT_RIGHT/TOP_BOTTOM
BAND_ORGANIZATION: SINGLE FILE
BAND_CONTENT: BLACK&WHITE
BAND_CONTENT: UNDEFINED
BAND_CONTENT: UNDEFINED
BITS_PER_PIXEL: 8
SAMPLES_AND_LINES: 5728 7655
HORIZONTAL_DATUM: NAD83
HORIZONTAL_COORDINATE_SYSTEM: UTM
COORDINATE_ZONE: 12
HORIZONTAL_UNITS: METERS
HORIZONTAL_RESOLUTION: 1.00000
SECONDARY_HORIZONTAL_DATUM: NAD27
XY_ORIGIN: 362006.41500 5005568.75900
SECONDARY_XY_ORIGIN: 362069.99200 5005358.61500
NATION: US
STATE: MT
NW_QUAD_CORNER_XY: 362523.93000 5005269.25900
NE_QUAD_CORNER_XY: 367433.78200 5005164.74100
SE_QUAD_CORNERY_XY: 367288.74800 4998221.60500
SW_QUAD_CORNER_XY: 362373.52100 4998326.12400
SECONDARY_NW_QUAD_XY: 362519.85500 5005051.94900
SECONDARY_NE_QUAD_XY: 367429.85300 5004947.42800
SECONDARY_SE_QUAD_XY: 367284.82000 4998004.34500
SECONDARY_SW_QUAD_XY: 362369.44800 4998108.86700
RMSE_XY: 1.40000
IMAGE_SOURCE: BLACK AND WHITE FILM
SOURCE_IMAGE_ID: NAPP 9483 68
SOURCE_IMAGE_DATE: 1995 8 14
SOURCE_DEM_DATE: 1997 11 25
AGENCY: WESTERN MAPPING CENTER (WMC)
PRODUCER: NIES MAPPING GROUP
PRODUCTION_SYSTEM: INTERGRAPH-ISIR
COMPRESSION: UNDEFINED
STANDARD_VERSION: 1996 12
METADATA_DATE: 1998 3 19
DATA_FILE_SIZE: 43853568
BYTE_COUNT: 5728
