FILENAME: O4511251.NES.811541.tif
QUADRANGLE_NAME: DILLON WEST
QUADRANT: NE
WEST_LONGITUDE: -112 41 15.00000
EAST_LONGITUDE: -112 37 30.00000
NORTH_LATITUDE: 45 15 0.00000
SOUTH_LATITUDE: 45 11 15.00000
PRODUCTION_DATE: 1997 11 25
RASTER_ORDER: LEFT_RIGHT/TOP_BOTTOM
BAND_ORGANIZATION: SINGLE FILE
BAND_CONTENT: BLACK&WHITE
BAND_CONTENT: UNDEFINED
BAND_CONTENT: UNDEFINED
BITS_PER_PIXEL: 8
SAMPLES_AND_LINES: 5717 7651
HORIZONTAL_DATUM: NAD83
HORIZONTAL_COORDINATE_SYSTEM: UTM
COORDINATE_ZONE: 12
HORIZONTAL_UNITS: METERS
HORIZONTAL_RESOLUTION: 1.00000
SECONDARY_HORIZONTAL_DATUM: NAD27
XY_ORIGIN: 367066.90400 5012407.44700
SECONDARY_XY_ORIGIN: 367130.39400 5012197.25700
NATION: US
STATE: MT
NW_QUAD_CORNER_XY: 367578.97500 5012107.94700
NE_QUAD_CORNER_XY: 372483.44700 5012007.23300
SE_QUAD_CORNERY_XY: 372343.63500 5005064.02600
SW_QUAD_CORNER_XY: 367433.78200 5005164.74100
SECONDARY_NW_QUAD_XY: 367575.04400 5011890.58200
SECONDARY_NE_QUAD_XY: 372479.66300 5011789.86500
SECONDARY_SE_QUAD_XY: 372339.85200 5004846.71000
SECONDARY_SW_QUAD_XY: 367429.85300 5004947.42800
RMSE_XY: 0.50000
IMAGE_SOURCE: BLACK AND WHITE FILM
SOURCE_IMAGE_ID: NAPP 8382 20
SOURCE_IMAGE_DATE: 1995 8 1
SOURCE_DEM_DATE: 1997 11 25
AGENCY: WESTERN MAPPING CENTER (WMC)
PRODUCER: NIES MAPPING GROUP
PRODUCTION_SYSTEM: INTERGRAPH-ISIR
COMPRESSION: UNDEFINED
STANDARD_VERSION: 1996 12
METADATA_DATE: 1998 3 19
DATA_FILE_SIZE: 43746484
BYTE_COUNT: 5717
